Workbook

Sheet 1. melléklet
A1: TOKOD NAGYKÖZSÉG ÖNKORMÁNYZATA 2026. ÉVI KÖLTSÉGVETÉSÉNEK I. FÉLÉVI TELJESÍTÉSE
A2: KÖLTSÉGVETÉSI ÉS FINANSZÍROZÁSI BEVÉTELEK ROVATREND SZERINTI BONTÁSBAN
A3: AZ ÖNKORMÁNYZAT ÉS INTÉZMÉNYEI VONATKOZÁSÁBAN (adatok forintban)
A5: KÖLTSÉGVETÉSI BEVÉTELEK
A6: Sorszám | B6: A. | C6: B. | D6: C. | E6: D. | F6: E. | G6: F. | H6: G. | I6: H. | J6: I. | K6: J. | L6: K. | M6: L. | N6: M. | O6: N. | P6: O. | Q6: P. | R6: Q. | S6: R.
B7: Megnevezés | C7: Rovat száma | D7: Tokod Nagyközség Önkormányzata | H7: Tokodi Polgármesteri Hivatal | L7: Tokodi Mesevár Óvoda- Mini Bölcsőde és Bölcsőde | P7: Az Önkormányzat és intézményei összesen
D8: Eredeti | E8: Módosított | F8: Teljesítés | H8: Eredeti | I8: Módosított | J8: Teljesítés | L8: Eredeti | M8: Módosított | N8: Teljesítés | P8: Eredeti | Q8: Módosított | R8: Teljesítés
D9: Előirányzat | H9: Előirányzat | L9: Előirányzat | P9: Előirányzat
A10: 1. | B10: Helyi önkormányzatok működésének általános támogatása | C10: B111 | D10: 159194710 | E10: 167864323 | F10: 90212346 | G10: =+F10/E10 -> 0.53741226 | H10: 0 | I10: 0 | J10: 0 | L10: 0 | M10: 0 | N10: 0 | P10: =+D10+H10+L10 -> 159194710 | Q10: =+E10+I10+M10 -> 167864323 | R10: =+F10+J10+N10 -> 90212346 | S10: =+R10/Q10 -> 0.53741226
A11: 2. | B11: Települési önkormányzatok egyes köznevelési feladatainak támogatása | C11: B112 | D11: 219532742 | E11: 222056342 | F11: 116257864 | G11: =+F11/E11 -> 0.5235512 | H11: 0 | I11: 0 | J11: 0 | L11: 0 | M11: 0 | N11: 0 | P11: =+D11+H11+L11 -> 219532742 | Q11: =+E11+I11+M11 -> 222056342 | R11: =+F11+J11+N11 -> 116257864 | S11: =+R11/Q11 -> 0.5235512
A12: 3. | B12: Települési önkormányzatok szociális gyermekjóléti és gyermekétkeztetési feladatainak támogatása | C12: B1131 | D12: 97351200 | E12: 97591200 | F12: 52152034 | G12: =+F12/E12 -> 0.53439279 | H12: 0 | I12: 0 | J12: 0 | L12: 0 | M12: 0 | N12: 0 | P12: =+D12+H12+L12 -> 97351200 | Q12: =+E12+I12+M12 -> 97591200 | R12: =+F12+J12+N12 -> 52152034 | S12: =+R12/Q12 -> 0.53439279
A13: 4. | B13: Települési önkormányzatok gyermekétkeztetési feladatainak támogatása | C13: B1132 | D13: 52725893 | E13: 52725893 | F13: 27417462 | G13: =+F13/E13 -> 0.51999996 | H13: 0 | I13: 0 | J13: 0 | L13: 0 | M13: 0 | N13: 0 | P13: =+D13+H13+L13 -> 52725893 | Q13: =+E13+I13+M13 -> 52725893 | R13: =+F13+J13+N13 -> 27417462 | S13: =+R13/Q13 -> 0.51999996
A14: 5. | B14: Települési önkormányzatok kulturális feladatainak támogatása | C14: B114 | D14: 9648680 | E14: 13452500 | F14: 6995300 | G14: =+F14/E14 -> 0.52 | H14: 0 | I14: 0 | J14: 0 | L14: 0 | M14: 0 | N14: 0 | P14: =+D14+H14+L14 -> 9648680 | Q14: =+E14+I14+M14 -> 13452500 | R14: =+F14+J14+N14 -> 6995300 | S14: =+R14/Q14 -> 0.52
A15: 6. | B15: Működési célú költségvetési támogatások és kiegészítő támogatások | C15: B115 | D15: 1000000 | E15: 1000000 | F15: 1144509 | G15: =+F15/E15 -> 1.144509 | H15: 0 | I15: 0 | J15: 0 | L15: 0 | M15: 0 | N15: 0 | P15: =+D15+H15+L15 -> 1000000 | Q15: =+E15+I15+M15 -> 1000000 | R15: =+F15+J15+N15 -> 1144509 | S15: =+R15/Q15 -> 1.144509
A16: 7. | B16: Elszámolásból származó bevételek | C16: B116 | D16: 0 | E16: 0 | F16: 0 | H16: 0 | I16: 0 | J16: 0 | L16: 0 | M16: 0 | N16: 0 | P16: =+D16+H16+L16 -> 0 | Q16: =+E16+I16+M16 -> 0 | R16: =+F16+J16+N16 -> 0
A17: 8. | B17: Önkormányzatok működési támogatásai (=01+…+07) | C17: B11 | D17: =SUM(D10:D16) -> 539453225 | E17: =SUM(E10:E16) -> 554690258 | F17: =SUM(F10:F16) -> 294179515 | G17: =+F17/E17 -> 0.53034916 | H17: =SUM(H10:H16) -> 0 | I17: =SUM(I10:I16) -> 0 | J17: =SUM(J10:J16) -> 0 | L17: =SUM(L10:L16) -> 0 | M17: =SUM(M10:M16) -> 0 | N17: =SUM(N10:N16) -> 0 | P17: =SUM(P10:P16) -> 539453225 | Q17: =SUM(Q10:Q16) -> 554690258 | R17: =SUM(R10:R16) -> 294179515 | S17: =+R17/Q17 -> 0.53034916
A18: 9. | B18: Elvonások és befizetések bevételei | C18: B12 | D18: 0 | E18: 19044138 | F18: 19044138 | G18: =+F18/E18 -> 1 | H18: 0 | I18: 0 | J18: 0 | L18: 0 | M18: 0 | N18: 0 | P18: =+D18+H18+L18 -> 0 | Q18: =+E18+I18+M18 -> 19044138 | R18: =+F18+J18+N18 -> 19044138 | S18: =+R18/Q18 -> 1
A19: 10. | B19: Működési célú garancia- és kezességvállalásból származó megtérülések államháztartáson belülről | C19: B13 | D19: 0 | E19: 0 | F19: 0 | H19: 0 | I19: 0 | J19: 0 | L19: 0 | M19: 0 | N19: 0 | P19: =+D19+H19+L19 -> 0 | Q19: =+E19+I19+M19 -> 0 | R19: =+F19+J19+N19 -> 0
A20: 11. | B20: Működési célú visszatérítendő támogatások, kölcsönök visszatérülése államháztartáson belülről | C20: B14 | D20: 0 | E20: 0 | F20: 0 | H20: 0 | I20: 0 | J20: 0 | L20: 0 | M20: 0 | N20: 0 | P20: =+D20+H20+L20 -> 0 | Q20: =+E20+I20+M20 -> 0 | R20: =+F20+J20+N20 -> 0
A21: 12. | B21: Működési célú visszatérítendő támogatások, kölcsönök igénybevétele államháztartáson belülről | C21: B15 | D21: 0 | E21: 0 | F21: 0 | H21: 0 | I21: 0 | J21: 0 | L21: 0 | M21: 0 | N21: 0 | P21: =+D21+H21+L21 -> 0 | Q21: =+E21+I21+M21 -> 0 | R21: =+F21+J21+N21 -> 0
A22: 13. | B22: Egyéb működési célú támogatások bevételei államháztartáson belülről | C22: B16 | D22: =19680000+1499995+6964285+627948+19777299 -> 48549527 | E22: 48549527 | F22: 37707632 | G22: =+F22/E22 -> 0.77668382 | H22: 0 | I22: 4853708 | J22: 4349924 | K22: =+J22/I22 -> 0.89620636 | L22: 0 | M22: 0 | N22: 0 | P22: =+D22+H22+L22 -> 48549527 | Q22: =+E22+I22+M22 -> 53403235 | R22: =+F22+J22+N22 -> 42057556 | S22: =+R22/Q22 -> 0.78754697
A23: 14. | B23: Működési célú támogatások államháztartáson belülről (=09+…+13) | C23: B12-B16 | D23: =SUM(D18:D22) -> 48549527 | E23: =SUM(E18:E22) -> 67593665 | F23: =SUM(F18:F22) -> 56751770 | G23: =+F23/E23 -> 0.83960191 | H23: =SUM(H18:H22) -> 0 | I23: =SUM(I18:I22) -> 4853708 | J23: =SUM(J18:J22) -> 4349924 | K23: =+J23/I23 -> 0.89620636 | L23: =SUM(L18:L22) -> 0 | M23: =SUM(M18:M22) -> 0 | N23: =SUM(N18:N22) -> 0 | P23: =SUM(P18:P22) -> 48549527 | Q23: =SUM(Q18:Q22) -> 72447373 | R23: =SUM(R18:R22) -> 61101694 | S23: =+R23/Q23 -> 0.8433942
A24: 15. | B24: Felhalmozási célú önkormányzati támogatások | C24: B21 | D24: 0 | E24: 0 | F24: 0 | H24: 0 | I24: 0 | J24: 0 | L24: 0 | M24: 0 | N24: 0 | P24: =+D24+H24+L24 -> 0 | Q24: =+E24+I24+M24 -> 0 | R24: =+F24+J24+N24 -> 0
A25: 16. | B25: Felhalmozási célú garancia- és kezességvállalásból származó megtérülések államháztartáson belülről | C25: B22 | D25: 0 | E25: 0 | F25: 0 | H25: 0 | I25: 0 | J25: 0 | L25: 0 | M25: 0 | N25: 0 | P25: =+D25+H25+L25 -> 0 | Q25: =+E25+I25+M25 -> 0 | R25: =+F25+J25+N25 -> 0
A26: 17. | B26: Felhalmozási célú visszatérítendő támogatások, kölcsönök visszatérülése államháztartáson belülről | C26: B23 | D26: 0 | E26: 0 | F26: 0 | H26: 0 | I26: 0 | J26: 0 | L26: 0 | M26: 0 | N26: 0 | P26: =+D26+H26+L26 -> 0 | Q26: =+E26+I26+M26 -> 0 | R26: =+F26+J26+N26 -> 0
A27: 18. | B27: Felhalmozási célú visszatérítendő támogatások, kölcsönök igénybevétele államháztartáson belülről | C27: B24 | D27: 0 | E27: 0 | F27: 0 | H27: 0 | I27: 0 | J27: 0 | L27: 0 | M27: 0 | N27: 0 | P27: =+D27+H27+L27 -> 0 | Q27: =+E27+I27+M27 -> 0 | R27: =+F27+J27+N27 -> 0
A28: 19. | B28: Egyéb felhalmozási célú támogatások bevételei államháztartáson belülről | C28: B25 | D28: 520045733 | E28: 513995733 | F28: 22998834 | G28: =+F28/E28 -> 0.044745185 | H28: 0 | I28: 0 | J28: 0 | L28: 0 | M28: 0 | N28: 0 | P28: =+D28+H28+L28 -> 520045733 | Q28: =+E28+I28+M28 -> 513995733 | R28: =+F28+J28+N28 -> 22998834 | S28: =+R28/Q28 -> 0.044745185
A29: 20. | B29: Felhalmozási célú támogatások államháztartáson belülről (=15+…+19) | C29: B2 | D29: =SUM(D24:D28) -> 520045733 | E29: =SUM(E24:E28) -> 513995733 | F29: =SUM(F24:F28) -> 22998834 | G29: =+F29/E29 -> 0.044745185 | H29: =SUM(H24:H28) -> 0 | I29: =SUM(I24:I28) -> 0 | J29: =SUM(J24:J28) -> 0 | L29: =SUM(L24:L28) -> 0 | M29: =SUM(M24:M28) -> 0 | N29: =SUM(N24:N28) -> 0 | P29: =SUM(P24:P28) -> 520045733 | Q29: =SUM(Q24:Q28) -> 513995733 | R29: =SUM(R24:R28) -> 22998834 | S29: =+R29/Q29 -> 0.044745185
A30: 21. | B30: Vagyoni tipusú adók | C30: B34 | D30: 15000000 | E30: 15000000 | F30: 5121686 | G30: =+F30/E30 -> 0.34144573 | H30: 0 | I30: 0 | J30: 0 | L30: 0 | M30: 0 | N30: 0 | P30: =+D30+H30+L30 -> 15000000 | Q30: =+E30+I30+M30 -> 15000000 | R30: =+F30+J30+N30 -> 5121686 | S30: =+R30/Q30 -> 0.34144573
A31: 22. | B31: Értékesítési és forgalmi adók | C31: B351 | D31: 172000000 | E31: 172000000 | F31: 86534910 | G31: =+F31/E31 -> 0.50310994 | H31: 0 | I31: 0 | J31: 0 | L31: 0 | M31: 0 | N31: 0 | P31: =+D31+H31+L31 -> 172000000 | Q31: =+E31+I31+M31 -> 172000000 | R31: =+F31+J31+N31 -> 86534910 | S31: =+R31/Q31 -> 0.50310994
A32: 23. | B32: Egyéb közhatalmi bevételek | C32: B36 | D32: 1500000 | E32: 1500000 | F32: 2527067 | G32: =+F32/E32 -> 1.6847113 | H32: 0 | I32: 0 | J32: 0 | L32: 0 | M32: 0 | N32: 0 | P32: =+D32+H32+L32 -> 1500000 | Q32: =+E32+I32+M32 -> 1500000 | R32: =+F32+J32+N32 -> 2527067 | S32: =+R32/Q32 -> 1.6847113
A33: 24. | B33: Közhatalmi bevételek (=21+...+23) | C33: B3 | D33: =SUM(D30:D32) -> 188500000 | E33: =SUM(E30:E32) -> 188500000 | F33: =SUM(F30:F32) -> 94183663 | G33: =+F33/E33 -> 0.49964808 | H33: =SUM(H30:H32) -> 0 | I33: =SUM(I30:I32) -> 0 | J33: =SUM(J30:J32) -> 0 | L33: =SUM(L30:L32) -> 0 | M33: =SUM(M30:M32) -> 0 | N33: =SUM(N30:N32) -> 0 | P33: =SUM(P30:P32) -> 188500000 | Q33: =SUM(Q30:Q32) -> 188500000 | R33: =SUM(R30:R32) -> 94183663 | S33: =+R33/Q33 -> 0.49964808
A34: 25. | B34: Készletértékesítés ellenértéke | C34: B401 | D34: 0 | E34: 0 | F34: 0 | H34: 0 | I34: 0 | J34: 0 | L34: 0 | M34: 0 | N34: 0 | P34: =+D34+H34+L34 -> 0 | Q34: =+E34+I34+M34 -> 0 | R34: =+F34+J34+N34 -> 0
A35: 26. | B35: Szolgáltatások ellenértéke | C35: B402 | D35: 20000000 | E35: 20000000 | F35: 12274072 | G35: =+F35/E35 -> 0.6137036 | H35: 0 | I35: 0 | J35: 0 | L35: 0 | M35: 0 | N35: 0 | P35: =+D35+H35+L35 -> 20000000 | Q35: =+E35+I35+M35 -> 20000000 | R35: =+F35+J35+N35 -> 12274072 | S35: =+R35/Q35 -> 0.6137036
A36: 27. | B36: Közvetített szolgáltatások ellenértéke | C36: B403 | D36: 4000000 | E36: 7000000 | F36: 3807655 | G36: =+F36/E36 -> 0.54395071 | H36: 0 | I36: 0 | J36: 0 | L36: 0 | M36: 0 | N36: 0 | P36: =+D36+H36+L36 -> 4000000 | Q36: =+E36+I36+M36 -> 7000000 | R36: =+F36+J36+N36 -> 3807655 | S36: =+R36/Q36 -> 0.54395071
A37: 28. | B37: Tulajdonosi bevételek | C37: B404 | D37: 0 | E37: 0 | F37: 0 | H37: 0 | I37: 0 | J37: 0 | L37: 0 | M37: 0 | N37: 0 | P37: =+D37+H37+L37 -> 0 | Q37: =+E37+I37+M37 -> 0 | R37: =+F37+J37+N37 -> 0
A38: 29. | B38: Ellátási díjak | C38: B405 | D38: 4898338 | E38: 4898338 | F38: 2663467 | G38: =+F38/E38 -> 0.54374912 | H38: 0 | I38: 0 | J38: 0 | L38: 2923794 | M38: 2923794 | N38: 2090060 | O38: =+N38/M38 -> 0.71484516 | P38: =+D38+H38+L38 -> 7822132 | Q38: =+E38+I38+M38 -> 7822132 | R38: =+F38+J38+N38 -> 4753527 | S38: =+R38/Q38 -> 0.60770222
A39: 30. | B39: Kiszámlázott általános forgalmi adó | C39: B406 | D39: =1322551+1000000 -> 2322551 | E39: =1322551+1000000 -> 2322551 | F39: 1903370 | G39: =+F39/E39 -> 0.81951699 | H39: 0 | I39: 0 | J39: 0 | L39: 0 | M39: 0 | N39: 0 | P39: =+D39+H39+L39 -> 2322551 | Q39: =+E39+I39+M39 -> 2322551 | R39: =+F39+J39+N39 -> 1903370 | S39: =+R39/Q39 -> 0.81951699
A40: 31. | B40: Általános forgalmi adó visszatérítése | C40: B407 | D40: 0 | E40: 0 | F40: 0 | H40: 0 | I40: 0 | J40: 0 | L40: 0 | M40: 0 | N40: 0 | P40: =+D40+H40+L40 -> 0 | Q40: =+E40+I40+M40 -> 0 | R40: =+F40+J40+N40 -> 0
A41: 32. | B41: Befektetett pénzügyi eszközökből származó bevételek | C41: B4081 | D41: 0 | E41: 0 | F41: 0 | H41: 0 | I41: 0 | J41: 0 | L41: 0 | M41: 0 | N41: 0 | P41: =+D41+H41+L41 -> 0 | Q41: =+E41+I41+M41 -> 0 | R41: =+F41+J41+N41 -> 0
A42: 33. | B42: Egyéb kapott (járó) kamatok és kamatjellegű bevételek | C42: B4082 | D42: 20000 | E42: 20000 | F42: 9884 | G42: =+F42/E42 -> 0.4942 | H42: 200 | I42: 200 | J42: 165 | K42: =+J42/I42 -> 0.825 | L42: 200 | M42: 200 | N42: 146 | O42: =+N42/M42 -> 0.73 | P42: =+D42+H42+L42 -> 20400 | Q42: =+E42+I42+M42 -> 20400 | R42: =+F42+J42+N42 -> 10195 | S42: =+R42/Q42 -> 0.4997549
A43: 35. | B43: Részesedésekből származó pénzügyi műveletek bevételei | C43: B4091 | D43: 0 | E43: 0 | F43: 0 | H43: 0 | I43: 0 | J43: 0 | L43: 0 | M43: 0 | N43: 0 | P43: =+D43+H43+L43 -> 0 | Q43: =+E43+I43+M43 -> 0 | R43: =+F43+J43+N43 -> 0
A44: 36. | B44: Más egyéb pénzügyi műveletek bevételei | C44: B4092 | D44: =68860000-D77 -> 1792632 | E44: 3585264 | F44: 1792632 | G44: =+F44/E44 -> 0.5 | H44: 0 | I44: 0 | J44: 0 | L44: 0 | M44: 0 | N44: 0 | P44: =+D44+H44+L44 -> 1792632 | Q44: =+E44+I44+M44 -> 3585264 | R44: =+F44+J44+N44 -> 1792632 | S44: =+R44/Q44 -> 0.5
A45: 38. | B45: Biztosító által fizetett kártérítés | C45: B410 | D45: 0 | E45: 0 | F45: 0 | H45: 0 | I45: 0 | J45: 0 | L45: 0 | M45: 0 | N45: 0 | P45: =+D45+H45+L45 -> 0 | Q45: =+E45+I45+M45 -> 0 | R45: =+F45+J45+N45 -> 0
A46: 39. | B46: Egyéb működési bevételek | C46: B411 | D46: 2800000 | E46: 3263244 | F46: 3709985 | G46: =+F46/E46 -> 1.1369009 | H46: 140000 | I46: 140000 | J46: 20000 | K46: =+J46/I46 -> 0.14285714 | L46: 0 | M46: 5 | N46: 5 | O46: =+N46/M46 -> 1 | P46: =+D46+H46+L46 -> 2940000 | Q46: =+E46+I46+M46 -> 3403249 | R46: =+F46+J46+N46 -> 3729990 | S46: =+R46/Q46 -> 1.0960085
A47: 40. | B47: Működési bevételek (=25+…+31+34+37+38+39) | C47: B4 | D47: =SUM(D34:D46) -> 35833521 | E47: =SUM(E34:E46) -> 41089397 | F47: =SUM(F34:F46) -> 26161065 | G47: =+F47/E47 -> 0.63668652 | H47: =SUM(H34:H46) -> 140200 | I47: =SUM(I34:I46) -> 140200 | J47: =SUM(J34:J46) -> 20165 | K47: =+J47/I47 -> 0.14383024 | L47: =SUM(L34:L46) -> 2923994 | M47: =SUM(M34:M46) -> 2923999 | N47: =SUM(N34:N46) -> 2090211 | O47: =+N47/M47 -> 0.71484669 | P47: =SUM(P34:P46) -> 38897715 | Q47: =SUM(Q34:Q46) -> 44153596 | R47: =SUM(R34:R46) -> 28271441 | S47: =+R47/Q47 -> 0.64029759
A48: 41. | B48: Immateriális javak értékesítése | C48: B51 | D48: 0 | E48: 0 | F48: 0 | H48: 0 | I48: 0 | J48: 0 | L48: 0 | M48: 0 | N48: 0 | P48: =+D48+H48+L48 -> 0 | Q48: =+E48+I48+M48 -> 0 | R48: =+F48+J48+N48 -> 0
A49: 42. | B49: Ingatlanok értékesítése | C49: B52 | D49: =14311200+63000000 -> 77311200 | E49: 77311200 | F49: 14681040 | G49: =+F49/E49 -> 0.18989538 | H49: 0 | I49: 0 | J49: 0 | L49: 0 | M49: 0 | N49: 0 | P49: =+D49+H49+L49 -> 77311200 | Q49: =+E49+I49+M49 -> 77311200 | R49: =+F49+J49+N49 -> 14681040 | S49: =+R49/Q49 -> 0.18989538
A50: 43. | B50: Egyéb tárgyi eszközök értékesítése | C50: B53 | D50: 0 | E50: 0 | F50: 0 | H50: 0 | I50: 0 | J50: 0 | L50: 0 | M50: 0 | N50: 0 | P50: =+D50+H50+L50 -> 0 | Q50: =+E50+I50+M50 -> 0 | R50: =+F50+J50+N50 -> 0
A51: 44. | B51: Részesedések értékesítése | C51: B54 | D51: 0 | E51: 0 | F51: 0 | H51: 0 | I51: 0 | J51: 0 | L51: 0 | M51: 0 | N51: 0 | P51: =+D51+H51+L51 -> 0 | Q51: =+E51+I51+M51 -> 0 | R51: =+F51+J51+N51 -> 0
A52: 45. | B52: Részesedések megszűnéséhez kapcsolódó bevételek | C52: B55 | D52: 0 | E52: 0 | F52: 0 | H52: 0 | I52: 0 | J52: 0 | L52: 0 | M52: 0 | N52: 0 | P52: =+D52+H52+L52 -> 0 | Q52: =+E52+I52+M52 -> 0 | R52: =+F52+J52+N52 -> 0
A53: 46. | B53: Felhalmozási bevételek (=41+…+45) | C53: B5 | D53: =SUM(D48:D52) -> 77311200 | E53: =SUM(E48:E52) -> 77311200 | F53: =SUM(F48:F52) -> 14681040 | G53: =+F53/E53 -> 0.18989538 | H53: =SUM(H48:H52) -> 0 | I53: =SUM(I48:I52) -> 0 | J53: =SUM(J48:J52) -> 0 | L53: =SUM(L48:L52) -> 0 | M53: =SUM(M48:M52) -> 0 | N53: =SUM(N48:N52) -> 0 | P53: =SUM(P48:P52) -> 77311200 | Q53: =SUM(Q48:Q52) -> 77311200 | R53: =SUM(R48:R52) -> 14681040 | S53: =+R53/Q53 -> 0.18989538
A54: 47. | B54: Működési célú garancia- és kezességvállalásból származó megtérülések államháztartáson kívülről | C54: B61 | D54: 0 | E54: 0 | F54: 0 | H54: 0 | I54: 0 | J54: 0 | L54: 0 | M54: 0 | N54: 0 | P54: =+D54+H54+L54 -> 0 | Q54: =+E54+I54+M54 -> 0 | R54: =+F54+J54+N54 -> 0
A55: 48. | B55: Működési célú visszatérítendő támogatások, kölcsönök visszatérülése az Európai Uniótól | C55: B62 | D55: 0 | E55: 0 | F55: 0 | H55: 0 | I55: 0 | J55: 0 | L55: 0 | M55: 0 | N55: 0 | P55: =+D55+H55+L55 -> 0 | Q55: =+E55+I55+M55 -> 0 | R55: =+F55+J55+N55 -> 0
A56: 49. | B56: Működési célú visszatérítendő támogatások, kölcsönök visszatérülése kormányoktól és más nemzetközi szervezetektől | C56: B63 | D56: 0 | E56: 0 | F56: 0 | H56: 0 | I56: 0 | J56: 0 | L56: 0 | M56: 0 | N56: 0 | P56: =+D56+H56+L56 -> 0 | Q56: =+E56+I56+M56 -> 0 | R56: =+F56+J56+N56 -> 0
A57: 50. | B57: Működési célú visszatérítendő támogatások, kölcsönök visszatérülése államháztartáson kívülről | C57: B64 | D57: 500000 | E57: 500000 | F57: 0 | G57: =+F57/E57 -> 0 | H57: 0 | I57: 0 | J57: 0 | L57: 0 | M57: 0 | N57: 0 | P57: =+D57+H57+L57 -> 500000 | Q57: =+E57+I57+M57 -> 500000 | R57: =+F57+J57+N57 -> 0
A58: 51. | B58: Egyéb működési célú átvett pénzeszközök | C58: B65 | D58: 0 | E58: 221692 | F58: 92425 | G58: =+F58/E58 -> 0.41690724 | H58: 0 | I58: 0 | J58: 0 | L58: 0 | M58: 0 | N58: 0 | P58: =+D58+H58+L58 -> 0 | Q58: =+E58+I58+M58 -> 221692 | R58: =+F58+J58+N58 -> 92425 | S58: =+R58/Q58 -> 0.41690724
A59: 52. | B59: Működési célú átvett pénzeszközök (=47+…+51) | C59: B6 | D59: =SUM(D54:D58) -> 500000 | E59: =SUM(E54:E58) -> 721692 | F59: =SUM(F54:F58) -> 92425 | G59: =+F59/E59 -> 0.1280671 | H59: =SUM(H54:H58) -> 0 | I59: =SUM(I54:I58) -> 0 | J59: =SUM(J54:J58) -> 0 | L59: =SUM(L54:L58) -> 0 | M59: =SUM(M54:M58) -> 0 | N59: =SUM(N54:N58) -> 0 | P59: =SUM(P54:P58) -> 500000 | Q59: =SUM(Q54:Q58) -> 721692 | R59: =SUM(R54:R58) -> 92425 | S59: =+R59/Q59 -> 0.1280671
A60: 53. | B60: Felhalmozási célú garancia- és kezességvállalásból származó megtérülések államháztartáson kívülről | C60: B71 | D60: 0 | E60: 0 | F60: 0 | H60: 0 | I60: 0 | J60: 0 | L60: 0 | M60: 0 | N60: 0 | P60: =+D60+H60+L60 -> 0 | Q60: =+E60+I60+M60 -> 0 | R60: =+F60+J60+N60 -> 0
A61: 54. | B61: Felhalmozási célú visszatérítendő támogatások, kölcsönök visszatérülése az Európai Uniótól | C61: B72 | D61: 0 | E61: 0 | F61: 0 | H61: 0 | I61: 0 | J61: 0 | L61: 0 | M61: 0 | N61: 0 | P61: =+D61+H61+L61 -> 0 | Q61: =+E61+I61+M61 -> 0 | R61: =+F61+J61+N61 -> 0
A62: 55. | B62: Felhalmozási célú visszatérítendő támogatások, kölcsönök visszatérülése kormányoktól és más nemzetközi szervezetektől | C62: B73 | D62: 0 | E62: 0 | F62: 0 | H62: 0 | I62: 0 | J62: 0 | L62: 0 | M62: 0 | N62: 0 | P62: =+D62+H62+L62 -> 0 | Q62: =+E62+I62+M62 -> 0 | R62: =+F62+J62+N62 -> 0
A63: 56. | B63: Felhalmozási célú visszatérítendő támogatások, kölcsönök visszatérülése államháztartáson kívülről | C63: B74 | D63: 0 | E63: 310166 | F63: 0 | G63: =+F63/E63 -> 0 | H63: 0 | I63: 0 | J63: 0 | L63: 0 | M63: 0 | N63: 0 | P63: =+D63+H63+L63 -> 0 | Q63: =+E63+I63+M63 -> 310166 | R63: =+F63+J63+N63 -> 0
A64: 57. | B64: Egyéb felhalmozási célú átvett pénzeszközök | C64: B75 | D64: 10740000 | E64: 12612272 | F64: 12612272 | G64: =+F64/E64 -> 1 | H64: 0 | I64: 0 | J64: 0 | L64: 0 | M64: 0 | N64: 0 | P64: =+D64+H64+L64 -> 10740000 | Q64: =+E64+I64+M64 -> 12612272 | R64: =+F64+J64+N64 -> 12612272 | S64: =+R64/Q64 -> 1
A65: 58. | B65: Felhalmozási célú átvett pénzeszközök (=53+…+57) | C65: B7 | D65: =SUM(D60:D64) -> 10740000 | E65: =SUM(E60:E64) -> 12922438 | F65: =SUM(F60:F64) -> 12612272 | G65: =+F65/E65 -> 0.97599787 | H65: =SUM(H60:H64) -> 0 | I65: =SUM(I60:I64) -> 0 | J65: =SUM(J60:J64) -> 0 | L65: =SUM(L60:L64) -> 0 | M65: =SUM(M60:M64) -> 0 | N65: =SUM(N60:N64) -> 0 | P65: =SUM(P60:P64) -> 10740000 | Q65: =SUM(Q60:Q64) -> 12922438 | R65: =SUM(R60:R64) -> 12612272 | S65: =+R65/Q65 -> 0.97599787
A66: 59. | B66: Költségvetési bevételek összesen (=8+14+20+24+34+37+40+46+52+58) | C66: B1-B7 | D66: =+D17+D23+D29+D33+D47+D53+D59+D65 -> 1420933206 | E66: =+E17+E23+E29+E33+E47+E53+E59+E65 -> 1456824383 | F66: =+F17+F23+F29+F33+F47+F53+F59+F65 -> 521660584 | G66: =+F66/E66 -> 0.35808062 | H66: =+H17+H23+H29+H33+H47+H53+H59+H65 -> 140200 | I66: =+I17+I23+I29+I33+I47+I53+I59+I65 -> 4993908 | J66: =+J17+J23+J29+J33+J47+J53+J59+J65 -> 4370089 | K66: =+J66/I66 -> 0.875084 | L66: =+L17+L23+L29+L33+L47+L53+L59+L65 -> 2923994 | M66: =+M17+M23+M29+M33+M47+M53+M59+M65 -> 2923999 | N66: =+N17+N23+N29+N33+N47+N53+N59+N65 -> 2090211 | O66: =+N66/M66 -> 0.71484669 | P66: =+P17+P23+P29+P33+P47+P53+P59+P65 -> 1423997400 | Q66: =+Q17+Q23+Q29+Q33+Q47+Q53+Q59+Q65 -> 1464742290 | R66: =+R17+R23+R29+R33+R47+R53+R59+R65 -> 528120884 | S66: =+R66/Q66 -> 0.3605555
A68: FINANSZÍROZÁSI BEVÉTELEK
A69: Sorszám | B69: A. | C69: B. | D69: C. | E69: D. | F69: E. | G69: F. | H69: G. | I69: H. | J69: I. | K69: J. | L69: K. | M69: L. | N69: M. | O69: N. | P69: O. | Q69: P. | R69: Q. | S69: R.
B70: Megnevezés | C70: Rovat száma | D70: Tokod Nagyközség Önkormányzata | H70: Tokodi Polgármesteri Hivatal | L70: Tokodi Mesevár Óvoda- Mini Bölcsőde és Bölcsőde | P70: Az Önkormányzat és intézményei összesen
D71: Eredeti | E71: Módosított | F71: Teljesítés | H71: Eredeti | I71: Módosított | J71: Teljesítés | L71: Eredeti | M71: Módosított | N71: Teljesítés | P71: Eredeti | Q71: Módosított | R71: Teljesítés
D72: Előirányzat | H72: Előirányzat | L72: Előirányzat | P72: Előirányzat
A73: 60. | B73: Hosszú lejáratú hitelek, kölcsönök felvétele pénzügyi vállalkozástól | C73: B8111 | D73: 0 | E73: 0 | F73: 0 | H73: 0 | I73: 0 | J73: 0 | L73: 0 | M73: 0 | N73: 0 | P73: =+D73+H73+L73 -> 0 | Q73: =+E73+I73+M73 -> 0 | R73: =+F73+J73+N73 -> 0
A74: 61. | B74: Likviditási célú hitelek, kölcsönök felvétele pénzügyi vállalkozástól | C74: B8112 | D74: 0 | E74: 0 | F74: 0 | H74: 0 | I74: 0 | J74: 0 | L74: 0 | M74: 0 | N74: 0 | P74: =+D74+H74+L74 -> 0 | Q74: =+E74+I74+M74 -> 0 | R74: =+F74+J74+N74 -> 0
A75: 62. | B75: Rövid lejáratú hitelek, kölcsönök felvétele pénzügyi vállalkozástól | C75: B8113 | D75: 0 | E75: 0 | F75: 0 | H75: 0 | I75: 0 | J75: 0 | L75: 0 | M75: 0 | N75: 0 | P75: =+D75+H75+L75 -> 0 | Q75: =+E75+I75+M75 -> 0 | R75: =+F75+J75+N75 -> 0
A76: 63. | B76: Hitel-, kölcsönfelvétel pénzügyi vállalkozástól (=01+02+03) | C76: B811 | D76: =SUM(D73:D75) -> 0 | E76: =SUM(E73:E75) -> 0 | F76: =SUM(F73:F75) -> 0 | H76: =SUM(H73:H75) -> 0 | I76: =SUM(I73:I75) -> 0 | L76: =SUM(L73:L75) -> 0 | M76: =SUM(M73:M75) -> 0 | N76: =SUM(N73:N75) -> 0 | P76: =SUM(P73:P75) -> 0 | Q76: =SUM(Q73:Q75) -> 0 | R76: =SUM(R73:R75) -> 0
A77: 64. | B77: Forgatási célú belföldi értékpapírok beváltása, értékesítése | C77: B8121 | D77: 67067368 | E77: 135923858 | F77: 67067368 | G77: =+F77/E77 -> 0.49341866 | H77: 0 | I77: 0 | J77: 0 | L77: 0 | M77: 0 | N77: 0 | P77: =+D77+H77+L77 -> 67067368 | Q77: =+E77+I77+M77 -> 135923858 | R77: =+F77+J77+N77 -> 67067368 | S77: =+R77/Q77 -> 0.49341866
A78: 65. | B78: Éven belüli lejáratú belföldi értékpapírok kibocsátása | C78: B8122 | D78: 0 | E78: 0 | F78: 0 | H78: 0 | I78: 0 | J78: 0 | L78: 0 | M78: 0 | N78: 0 | P78: =+D78+H78+L78 -> 0 | Q78: =+E78+I78+M78 -> 0 | R78: =+F78+J78+N78 -> 0
A79: 66. | B79: Befektetési célú belföldi értékpapírok beváltása, értékesítése | C79: B8123 | D79: 0 | E79: 0 | F79: 0 | H79: 0 | I79: 0 | J79: 0 | L79: 0 | M79: 0 | N79: 0 | P79: =+D79+H79+L79 -> 0 | Q79: =+E79+I79+M79 -> 0 | R79: =+F79+J79+N79 -> 0
A80: 67. | B80: Éven túli lejáratú belföldi értékpapírok kibocsátása | C80: B8124 | D80: 0 | E80: 0 | F80: 0 | H80: 0 | I80: 0 | J80: 0 | L80: 0 | M80: 0 | N80: 0 | P80: =+D80+H80+L80 -> 0 | Q80: =+E80+I80+M80 -> 0 | R80: =+F80+J80+N80 -> 0
A81: 68. | B81: Belföldi értékpapírok bevételei (=05+..+08) | C81: B812 | D81: =SUM(D77:D80) -> 67067368 | E81: =SUM(E77:E80) -> 135923858 | F81: =SUM(F77:F80) -> 67067368 | G81: =+F81/E81 -> 0.49341866 | H81: =SUM(H77:H80) -> 0 | I81: =SUM(I77:I80) -> 0 | L81: =SUM(L77:L80) -> 0 | M81: =SUM(M77:M80) -> 0 | N81: =SUM(N77:N80) -> 0 | P81: =SUM(P77:P80) -> 67067368 | Q81: =SUM(Q77:Q80) -> 135923858 | R81: =SUM(R77:R80) -> 67067368 | S81: =+R81/Q81 -> 0.49341866
A82: 69. | B82: Előző év költségvetési maradványának igénybevétele | C82: B8131 | D82: 250792042 | E82: 250758917 | F82: 250758917 | G82: =+F82/E82 -> 1 | H82: 1193633 | I82: 1193638 | J82: 1193638 | K82: =+J82/I82 -> 1 | L82: 710362 | M82: 710369 | N82: 710369 | O82: =+N82/M82 -> 1 | P82: =+D82+H82+L82 -> 252696037 | Q82: =+E82+I82+M82 -> 252662924 | R82: =+F82+J82+N82 -> 252662924 | S82: =+R82/Q82 -> 1
A83: 70. | B83: Előző év vállalkozási maradványának igénybevétele | C83: B8132 | D83: 0 | E83: 0 | F83: 0 | H83: 0 | I83: 0 | J83: 0 | L83: 0 | M83: 0 | N83: 0 | P83: =+D83+H83+L83 -> 0 | Q83: =+E83+I83+M83 -> 0 | R83: =+F83+J83+N83 -> 0
A84: 71. | B84: Maradvány igénybevétele (=10+11) | C84: B813 | D84: =SUM(D82:D83) -> 250792042 | E84: =SUM(E82:E83) -> 250758917 | F84: =SUM(F82:F83) -> 250758917 | G84: =+F84/E84 -> 1 | H84: =SUM(H82:H83) -> 1193633 | I84: =SUM(I82:I83) -> 1193638 | J84: =SUM(J82:J83) -> 1193638 | K84: =+J84/I84 -> 1 | L84: =SUM(L82:L83) -> 710362 | M84: =SUM(M82:M83) -> 710369 | N84: =SUM(N82:N83) -> 710369 | O84: =+N84/M84 -> 1 | P84: =SUM(P82:P83) -> 252696037 | Q84: =SUM(Q82:Q83) -> 252662924 | R84: =SUM(R82:R83) -> 252662924 | S84: =+R84/Q84 -> 1
A85: 72. | B85: Államháztartáson belüli megelőlegezések | C85: B814 | D85: 20065423 | E85: 20065423 | F85: 0 | G85: =+F85/E85 -> 0 | H85: 0 | I85: 0 | J85: 0 | L85: 0 | M85: 0 | N85: 0 | P85: =+D85+H85+L85 -> 20065423 | Q85: =+E85+I85+M85 -> 20065423 | R85: =+F85+J85+N85 -> 0 | S85: =+R85/Q85 -> 0
A86: 73. | B86: Államháztartáson belüli megelőlegezések törlesztése | C86: B815 | D86: 0 | E86: 0 | F86: 0 | H86: 0 | I86: 0 | J86: 0 | L86: 0 | M86: 0 | N86: 0 | P86: =+D86+H86+L86 -> 0 | Q86: =+E86+I86+M86 -> 0 | R86: =+F86+J86+N86 -> 0
A87: 74. | B87: Központi, irányító szervi támogatás | C87: B816 | D87: 0 | E87: 0 | F87: 0 | H87: 0 | I87: 0 | J87: 0 | L87: 0 | M87: 0 | N87: 0 | P87: =+D87+H87+L87 -> 0 | Q87: =+E87+I87+M87 -> 0 | R87: =+F87+J87+N87 -> 0
A88: 75. | B88: Lekötött bankbetétek megszüntetése | C88: B817 | D88: 0 | E88: 0 | F88: 0 | H88: 0 | I88: 0 | J88: 0 | L88: 0 | M88: 0 | N88: 0 | P88: =+D88+H88+L88 -> 0 | Q88: =+E88+I88+M88 -> 0 | R88: =+F88+J88+N88 -> 0
A89: 76. | B89: Központi költségvetés sajátos finanszírozási bevételei | C89: B818 | D89: 0 | E89: 0 | F89: 0 | H89: 0 | I89: 0 | J89: 0 | L89: 0 | M89: 0 | N89: 0 | P89: =+D89+H89+L89 -> 0 | Q89: =+E89+I89+M89 -> 0 | R89: =+F89+J89+N89 -> 0
A90: 77. | B90: Egyéb finanszírozási bevételek (=13+17) | C90: B814-B818 | D90: =SUM(D85:D89) -> 20065423 | E90: =SUM(E85:E89) -> 20065423 | F90: =SUM(F85:F89) -> 0 | G90: =+F90/E90 -> 0 | H90: =SUM(H85:H89) -> 0 | I90: =SUM(I85:I89) -> 0 | J90: =SUM(J85:J89) -> 0 | L90: =SUM(L85:L89) -> 0 | M90: =SUM(M85:M89) -> 0 | N90: =SUM(N85:N89) -> 0 | P90: =SUM(P85:P89) -> 20065423 | Q90: =SUM(Q85:Q89) -> 20065423 | R90: =SUM(R85:R89) -> 0 | S90: =+R90/Q90 -> 0
A91: 78. | B91: Finanszírozási bevételek összesen (=04+09+12+18) | C91: B8 | D91: =+D76+D81+D84+D90 -> 337924833 | E91: =+E76+E81+E84+E90 -> 406748198 | F91: =+F76+F81+F84+F90 -> 317826285 | G91: =+F91/E91 -> 0.78138339 | H91: =+H76+H81+H84+H90 -> 1193633 | I91: =+I76+I81+I84+I90 -> 1193638 | J91: =+J76+J81+J84+J90 -> 1193638 | K91: =+J91/I91 -> 1 | L91: =+L76+L81+L84+L90 -> 710362 | M91: =+M76+M81+M84+M90 -> 710369 | N91: =+N76+N81+N84+N90 -> 710369 | O91: =+N91/M91 -> 1 | P91: =+P76+P81+P84+P90 -> 339828828 | Q91: =+Q76+Q81+Q84+Q90 -> 408652205 | R91: =+R76+R81+R84+R90 -> 319730292 | S91: =+R91/Q91 -> 0.78240197
A93: 79. | B93: KÖLTSÉGVETÉSI ÉS FINANSZÍROZÁSI BEVÉTELEK ÖSSZESEN (=59+) | C93: B1-B8 | D93: =+D66+D91 -> 1758858039 | E93: =+E66+E91 -> 1863572581 | F93: =+F66+F91 -> 839486869 | G93: =+F93/E93 -> 0.45047179 | H93: =+H66+H91 -> 1333833 | I93: =+I66+I91 -> 6187546 | J93: =+J66+J91 -> 5563727 | K93: =+J93/I93 -> 0.89918152 | L93: =+L66+L91 -> 3634356 | M93: =+M66+M91 -> 3634368 | N93: =+N66+N91 -> 2800580 | O93: =+N93/M93 -> 0.7705824 | P93: =+P66+P91 -> 1763826228 | Q93: =+Q66+Q91 -> 1873394495 | R93: =+R66+R91 -> 847851176 | S93: =+R93/Q93 -> 0.45257482
H96: =+H93+L93 -> 4968189 | I96: =+I93+M93 -> 9821914

Sheet 2. melléklet
A1: TOKOD NAGYKÖZSÉG ÖNKORMÁNYZATA 2026. ÉVI KÖLTSÉGVETÉSÉNEK I. FÉLÉVI TELJESÍTÉSE
A2: KÖLTSÉGVETÉSI ÉS FINANSZÍROZÁSI KIADÁSOK ROVATREND SZERINTI BONTÁSBAN
A3: AZ ÖNKORMÁNYZAT ÉS INTÉZMÉNYEI VONATKOZÁSÁBAN (adatok forintban)
A5: KÖLTSÉGVETÉSI KIADÁSOK
A6: Sorszám | B6: A. | C6: B. | D6: C. | E6: D. | F6: E. | G6: F. | H6: G. | I6: H. | J6: I. | K6: J. | L6: K. | M6: L. | N6: M. | O6: N. | P6: O. | Q6: P. | R6: Q. | S6: R.
B7: Megnevezés | C7: Rovat száma | D7: Tokod Nagyközség Önkormányzata | H7: Tokodi Polgármesteri Hivatal | L7: Tokodi Mesevár Óvoda- Mini Bölcsőde és Bölcsőde | P7: Az Önkormányzat és intézményei összesen
D8: Eredeti | E8: Módosított | F8: Teljesítés | H8: Eredeti | I8: Módosított | J8: Teljesítés | L8: Eredeti | M8: Módosított | N8: Teljesítés | P8: Eredeti | Q8: Módosított | R8: Teljesítés
D9: Előirányzat | H9: Előirányzat | L9: Előirányzat | P9: Előirányzat
A10: 1. | B10: Törvény szerinti illetmények, munkabérek | C10: K1101 | D10: 90000000 | E10: 90000000 | F10: 43719483 | G10: =+F10/E10 -> 0.48577203 | H10: =114026000+1000000-3 -> 115025997 | I10: =114026000+1000000-3 -> 115025997 | J10: 54153218 | K10: =+J10/I10 -> 0.47079112 | L10: =265000000-940000 -> 264060000 | M10: =265000000-940000 -> 264060000 | N10: 120307370 | O10: =+N10/M10 -> 0.45560619 | P10: =+D10+H10+L10 -> 469085997 | Q10: =+E10+I10+M10 -> 469085997 | R10: =+F10+J10+N10 -> 218180071 | S10: =+R10/Q10 -> 0.46511742
A11: 2. | B11: Normatív jutalmak | C11: K1102 | D11: 0 | E11: 0 | F11: 0 | H11: 0 | I11: 1701279 | J11: 1701279 | K11: =+J11/I11 -> 1 | L11: 0 | M11: 0 | N11: 0 | P11: =+D11+H11+L11 -> 0 | Q11: =+E11+I11+M11 -> 1701279 | R11: =+F11+J11+N11 -> 1701279 | S11: =+R11/Q11 -> 1
A12: 3. | B12: Céljuttatás, projektprémium | C12: K1103 | D12: 9000000 | E12: 9000000 | F12: 2071106 | G12: =+F12/E12 -> 0.23012289 | H12: 9600000 | I12: 9600000 | J12: 3388440 | K12: =+J12/I12 -> 0.3529625 | L12: 11428000 | M12: 11428000 | N12: 3563680 | O12: =+N12/M12 -> 0.31183759 | P12: =+D12+H12+L12 -> 30028000 | Q12: =+E12+I12+M12 -> 30028000 | R12: =+F12+J12+N12 -> 9023226 | S12: =+R12/Q12 -> 0.30049374
A13: 4. | B13: Készenléti, ügyeleti, helyettesítési díj, túlóra, túlszolgálat | C13: K1104 | D13: 0 | E13: 0 | F13: 0 | H13: 0 | I13: 0 | J13: 0 | L13: 4000000 | M13: 4000000 | N13: 2216486 | O13: =+N13/M13 -> 0.5541215 | P13: =+D13+H13+L13 -> 4000000 | Q13: =+E13+I13+M13 -> 4000000 | R13: =+F13+J13+N13 -> 2216486 | S13: =+R13/Q13 -> 0.5541215
A14: 5. | B14: Végkielégítés | C14: K1105 | D14: 0 | E14: 0 | F14: 0 | H14: 0 | I14: 0 | J14: 0 | L14: 0 | M14: 0 | N14: 0 | P14: =+D14+H14+L14 -> 0 | Q14: =+E14+I14+M14 -> 0 | R14: =+F14+J14+N14 -> 0
A15: 6. | B15: Jubileumi jutalom | C15: K1106 | D15: 0 | E15: 0 | F15: 0 | H15: 0 | I15: 0 | J15: 0 | L15: 1840000 | M15: 1840000 | N15: 850160 | O15: =+N15/M15 -> 0.46204348 | P15: =+D15+H15+L15 -> 1840000 | Q15: =+E15+I15+M15 -> 1840000 | R15: =+F15+J15+N15 -> 850160 | S15: =+R15/Q15 -> 0.46204348
A16: 7. | B16: Béren kívüli juttatások | C16: K1107 | D16: =3500000+2500000 -> 6000000 | E16: =3500000+2500000 -> 6000000 | F16: 3916000 | G16: =+F16/E16 -> 0.65266667 | H16: =5520000+2000000 -> 7520000 | I16: =5520000+2000000 -> 7520000 | J16: 6400000 | K16: =+J16/I16 -> 0.85106383 | L16: =8190000+9951015 -> 18141015 | M16: =8190000+9951015 -> 18141015 | N16: 11487015 | O16: =+N16/M16 -> 0.63320685 | P16: =+D16+H16+L16 -> 31661015 | Q16: =+E16+I16+M16 -> 31661015 | R16: =+F16+J16+N16 -> 21803015 | S16: =+R16/Q16 -> 0.68863917
A17: 8. | B17: Ruházati költségtérítés | C17: K1108 | D17: 0 | E17: 0 | F17: 0 | H17: 60000 | I17: 60000 | J17: 0 | K17: =+J17/I17 -> 0 | L17: 0 | M17: 0 | N17: 0 | P17: =+D17+H17+L17 -> 60000 | Q17: =+E17+I17+M17 -> 60000 | R17: =+F17+J17+N17 -> 0
A18: 9. | B18: Közlekedési költségtérítés | C18: K1109 | D18: 700000 | E18: 700000 | F18: 290460 | G18: =+F18/E18 -> 0.41494286 | H18: 600000 | I18: 600000 | J18: 265620 | K18: =+J18/I18 -> 0.4427 | L18: 1300000 | M18: 1300000 | N18: 584280 | O18: =+N18/M18 -> 0.44944615 | P18: =+D18+H18+L18 -> 2600000 | Q18: =+E18+I18+M18 -> 2600000 | R18: =+F18+J18+N18 -> 1140360 | S18: =+R18/Q18 -> 0.4386
A19: 10. | B19: Egyéb költségtérítések | C19: K1110 | D19: 0 | E19: 0 | F19: 0 | H19: 72000 | I19: 72000 | J19: 0 | K19: =+J19/I19 -> 0 | L19: 0 | M19: 0 | N19: 0 | P19: =+D19+H19+L19 -> 72000 | Q19: =+E19+I19+M19 -> 72000 | R19: =+F19+J19+N19 -> 0 | S19: =+R19/Q19 -> 0
A20: 11. | B20: Lakhatási támogatások | C20: K1111 | D20: 0 | E20: 0 | F20: 0 | H20: 0 | I20: 0 | J20: 0 | L20: 0 | M20: 0 | N20: 0 | P20: =+D20+H20+L20 -> 0 | Q20: =+E20+I20+M20 -> 0 | R20: =+F20+J20+N20 -> 0
A21: 12. | B21: Szociális támogatások | C21: K1112 | D21: 0 | E21: 0 | F21: 0 | H21: 0 | I21: 0 | J21: 0 | L21: 0 | M21: 0 | N21: 0 | P21: =+D21+H21+L21 -> 0 | Q21: =+E21+I21+M21 -> 0 | R21: =+F21+J21+N21 -> 0
A22: 13. | B22: Foglalkoztatottak egyéb személyi juttatásai | C22: K1113 | D22: 2500000 | E22: 2500000 | F22: 478514 | G22: =+F22/E22 -> 0.1914056 | H22: 1000000 | I22: 1000000 | J22: 703777 | K22: =+J22/I22 -> 0.703777 | L22: 3500000 | M22: 5786000 | N22: 4365624 | O22: =+N22/M22 -> 0.75451504 | P22: =+D22+H22+L22 -> 7000000 | Q22: =+E22+I22+M22 -> 9286000 | R22: =+F22+J22+N22 -> 5547915 | S22: =+R22/Q22 -> 0.59744939
A23: 14. | B23: Foglalkoztatottak személyi juttatásai (=01+…+13) | C23: K11 | D23: =SUM(D10:D22) -> 108200000 | E23: =SUM(E10:E22) -> 108200000 | F23: =SUM(F10:F22) -> 50475563 | G23: =+F23/E23 -> 0.46650243 | H23: =SUM(H10:H22) -> 133877997 | I23: =SUM(I10:I22) -> 135579276 | J23: =SUM(J10:J22) -> 66612334 | K23: =+J23/I23 -> 0.49131649 | L23: =SUM(L10:L22) -> 304269015 | M23: =SUM(M10:M22) -> 306555015 | N23: =SUM(N10:N22) -> 143374615 | O23: =+N23/M23 -> 0.4676962 | P23: =SUM(P10:P22) -> 546347012 | Q23: =SUM(Q10:Q22) -> 550334291 | R23: =SUM(R10:R22) -> 260462512 | S23: =+R23/Q23 -> 0.47328054
A24: 15. | B24: Választott tisztségviselők juttatásai | C24: K121 | D24: =35200000+1000000 -> 36200000 | E24: =35200000+1000000 -> 36200000 | F24: 17887354 | G24: =+F24/E24 -> 0.4941258 | H24: 0 | I24: 0 | J24: 0 | L24: 0 | M24: 0 | N24: 0 | P24: =+D24+H24+L24 -> 36200000 | Q24: =+E24+I24+M24 -> 36200000 | R24: =+F24+J24+N24 -> 17887354 | S24: =+R24/Q24 -> 0.4941258
A25: 16. | B25: Munkavégzésre irányuló egyéb jogviszonyban nem saját foglalkoztatottnak fizetett juttatások | C25: K122 | D25: 11000000 | E25: 11000000 | F25: 6006201 | G25: =+F25/E25 -> 0.54601827 | H25: 300000 | I25: 300000 | J25: 150750 | K25: =+J25/I25 -> 0.5025 | L25: 4600000 | M25: 4600000 | N25: 2223702 | O25: =+N25/M25 -> 0.48341348 | P25: =+D25+H25+L25 -> 15900000 | Q25: =+E25+I25+M25 -> 15900000 | R25: =+F25+J25+N25 -> 8380653 | S25: =+R25/Q25 -> 0.52708509
A26: 17. | B26: Egyéb külső személyi juttatások | C26: K123 | D26: 7000000 | E26: 7000000 | F26: 928260 | G26: =+F26/E26 -> 0.13260857 | H26: 300000 | I26: 2152425 | J26: 2114375 | K26: =+J26/I26 -> 0.98232226 | L26: 900000 | M26: 900000 | N26: 45000 | O26: =+N26/M26 -> 0.05 | P26: =+D26+H26+L26 -> 8200000 | Q26: =+E26+I26+M26 -> 10052425 | R26: =+F26+J26+N26 -> 3087635 | S26: =+R26/Q26 -> 0.30715325
A27: 18. | B27: Külső személyi juttatások (=15+16+17) | C27: K12 | D27: =SUM(D24:D26) -> 54200000 | E27: =SUM(E24:E26) -> 54200000 | F27: =SUM(F24:F26) -> 24821815 | G27: =+F27/E27 -> 0.45796707 | H27: =SUM(H24:H26) -> 600000 | I27: =SUM(I24:I26) -> 2452425 | J27: =SUM(J24:J26) -> 2265125 | K27: =+J27/I27 -> 0.92362661 | L27: =SUM(L24:L26) -> 5500000 | M27: =SUM(M24:M26) -> 5500000 | N27: =SUM(N24:N26) -> 2268702 | O27: =+N27/M27 -> 0.41249127 | P27: =SUM(P24:P26) -> 60300000 | Q27: =SUM(Q24:Q26) -> 62152425 | R27: =SUM(R24:R26) -> 29355642 | S27: =+R27/Q27 -> 0.47231692
A28: 19. | B28: Személyi juttatások (=14+18) | C28: K1 | D28: =+D23+D27 -> 162400000 | E28: =+E23+E27 -> 162400000 | F28: =+F23+F27 -> 75297378 | G28: =+F28/E28 -> 0.46365381 | H28: =+H23+H27 -> 134477997 | I28: =+I23+I27 -> 138031701 | J28: =+J23+J27 -> 68877459 | K28: =+J28/I28 -> 0.49899739 | L28: =+L23+L27 -> 309769015 | M28: =+M23+M27 -> 312055015 | N28: =+N23+N27 -> 145643317 | O28: =+N28/M28 -> 0.46672321 | P28: =+P23+P27 -> 606647012 | Q28: =+Q23+Q27 -> 612486716 | R28: =+R23+R27 -> 289818154 | S28: =+R28/Q28 -> 0.47318276
A29: 20. | B29: Munkaadókat terhelő járulékok és szociális hozzájárulási adó | C29: K2 | D29: =21965000+980000 -> 22945000 | E29: =21965000+980000 -> 22945000 | F29: 10936896 | G29: =+F29/E29 -> 0.47665705 | H29: =17140000+560000 -> 17700000 | I29: 18245118 | J29: 11659237 | K29: =+J29/I29 -> 0.63903325 | L29: =34667000+2786284 -> 37453284 | M29: 37690884 | N29: 20642681 | O29: =+N29/M29 -> 0.54768365 | P29: =+D29+H29+L29 -> 78098284 | Q29: =+E29+I29+M29 -> 78881002 | R29: =+F29+J29+N29 -> 43238814 | S29: =+R29/Q29 -> 0.54815244
A30: 21. | B30: Szakmai anyagok beszerzése | C30: K311 | D30: 1300000 | E30: 1300000 | F30: 657597 | G30: =+F30/E30 -> 0.50584385 | H30: 200000 | I30: 200000 | J30: 27833 | K30: =+J30/I30 -> 0.139165 | L30: 50000 | M30: 50000 | N30: 13156 | O30: =+N30/M30 -> 0.26312 | P30: =+D30+H30+L30 -> 1550000 | Q30: =+E30+I30+M30 -> 1550000 | R30: =+F30+J30+N30 -> 698586 | S30: =+R30/Q30 -> 0.45070065
A31: 22. | B31: Üzemeltetési anyagok beszerzése | C31: K312 | D31: 11000000 | E31: 11000000 | F31: 4393587 | G31: =+F31/E31 -> 0.399417 | H31: 700000 | I31: 870219 | J31: 437325 | K31: =+J31/I31 -> 0.50254591 | L31: 2500000 | M31: 2500000 | N31: 821888 | O31: =+N31/M31 -> 0.3287552 | P31: =+D31+H31+L31 -> 14200000 | Q31: =+E31+I31+M31 -> 14370219 | R31: =+F31+J31+N31 -> 5652800 | S31: =+R31/Q31 -> 0.39336909
A32: 23. | B32: Árubeszerzés | C32: K313 | D32: 0 | E32: 0 | F32: 0 | H32: 0 | I32: 0 | J32: 0 | L32: 0 | M32: 0 | N32: 0 | P32: =+D32+H32+L32 -> 0 | Q32: =+E32+I32+M32 -> 0 | R32: =+F32+J32+N32 -> 0
A33: 24. | B33: Készletbeszerzés (=21+22+23) | C33: K31 | D33: =SUM(D30:D32) -> 12300000 | E33: =SUM(E30:E32) -> 12300000 | F33: =SUM(F30:F32) -> 5051184 | G33: =+F33/E33 -> 0.41066537 | H33: =SUM(H30:H32) -> 900000 | I33: =SUM(I30:I32) -> 1070219 | J33: =SUM(J30:J32) -> 465158 | K33: =+J33/I33 -> 0.43463814 | L33: =SUM(L30:L32) -> 2550000 | M33: =SUM(M30:M32) -> 2550000 | N33: =SUM(N30:N32) -> 835044 | O33: =+N33/M33 -> 0.32746824 | P33: =SUM(P30:P32) -> 15750000 | Q33: =SUM(Q30:Q32) -> 15920219 | R33: =SUM(R30:R32) -> 6351386 | S33: =+R33/Q33 -> 0.39895092
A34: 25. | B34: Informatikai szolgáltatások igénybevétele | C34: K321 | D34: 3000000 | E34: 3000000 | F34: 1997675 | G34: =+F34/E34 -> 0.66589167 | H34: 1200000 | I34: 1200000 | J34: 676446 | K34: =+J34/I34 -> 0.563705 | L34: 800000 | M34: 800000 | N34: 372396 | O34: =+N34/M34 -> 0.465495 | P34: =+D34+H34+L34 -> 5000000 | Q34: =+E34+I34+M34 -> 5000000 | R34: =+F34+J34+N34 -> 3046517 | S34: =+R34/Q34 -> 0.6093034
A35: 26. | B35: Egyéb kommunikációs szolgáltatások | C35: K322 | D35: 1200000 | E35: 1200000 | F35: 527552 | G35: =+F35/E35 -> 0.43962667 | H35: 100000 | I35: 100000 | J35: 28570 | K35: =+J35/I35 -> 0.2857 | L35: 250000 | M35: 250000 | N35: 104628 | O35: =+N35/M35 -> 0.418512 | P35: =+D35+H35+L35 -> 1550000 | Q35: =+E35+I35+M35 -> 1550000 | R35: =+F35+J35+N35 -> 660750 | S35: =+R35/Q35 -> 0.42629032
A36: 27. | B36: Kommunikációs szolgáltatások (=25+26) | C36: K32 | D36: =SUM(D34:D35) -> 4200000 | E36: =SUM(E34:E35) -> 4200000 | F36: =SUM(F34:F35) -> 2525227 | G36: =+F36/E36 -> 0.60124452 | H36: =SUM(H34:H35) -> 1300000 | I36: =SUM(I34:I35) -> 1300000 | J36: =SUM(J34:J35) -> 705016 | K36: =+J36/I36 -> 0.54232 | L36: =SUM(L34:L35) -> 1050000 | M36: =SUM(M34:M35) -> 1050000 | N36: =SUM(N34:N35) -> 477024 | O36: =+N36/M36 -> 0.45430857 | P36: =SUM(P34:P35) -> 6550000 | Q36: =SUM(Q34:Q35) -> 6550000 | R36: =SUM(R34:R35) -> 3707267 | S36: =+R36/Q36 -> 0.56599496
A37: 28. | B37: Villamosenergia szolgáltatás díja | C37: K3311 | D37: 21000000 | E37: 21000000 | F37: 12570742 | G37: =+F37/E37 -> 0.59860676 | H37: 100000 | I37: 100000 | J37: 0 | L37: 2500000 | M37: 2500000 | N37: 1041073 | O37: =+N37/M37 -> 0.4164292 | P37: =+D37+H37+L37 -> 23600000 | Q37: =+E37+I37+M37 -> 23600000 | R37: =+F37+J37+N37 -> 13611815 | S37: =+R37/Q37 -> 0.57677182
A38: 29. | B38: Gázenergia szolgáltatás díja | C38: K3312 | D38: 14000000 | E38: 16000000 | F38: 8094881 | G38: =+F38/E38 -> 0.50593006 | H38: 1800000 | I38: 1800000 | J38: 1087002 | K38: =+J38/I38 -> 0.60389 | L38: 1700000 | M38: 1700000 | N38: 848982 | O38: =+N38/M38 -> 0.49940118 | P38: =+D38+H38+L38 -> 17500000 | Q38: =+E38+I38+M38 -> 19500000 | R38: =+F38+J38+N38 -> 10030865 | S38: =+R38/Q38 -> 0.51440333
A39: 30. | B39: Víz- és csatorna szolgáltatások díja | C39: K3314 | D39: 2600000 | E39: 2600000 | F39: 968552 | G39: =+F39/E39 -> 0.37252 | H39: 200000 | I39: 200000 | J39: 89931 | K39: =+J39/I39 -> 0.449655 | L39: 1600000 | M39: 1600000 | N39: 751020 | O39: =+N39/M39 -> 0.4693875 | P39: =+D39+H39+L39 -> 4400000 | Q39: =+E39+I39+M39 -> 4400000 | R39: =+F39+J39+N39 -> 1809503 | S39: =+R39/Q39 -> 0.41125068
A40: 31. | B40: Vásárolt élelmezés | C40: K332 | D40: 17500000 | E40: 17500000 | F40: 10827104 | G40: =+F40/E40 -> 0.61869166 | H40: 0 | I40: 0 | J40: 0 | L40: 31320000 | M40: 31320000 | N40: 18213268 | O40: =+N40/M40 -> 0.58152197 | P40: =+D40+H40+L40 -> 48820000 | Q40: =+E40+I40+M40 -> 48820000 | R40: =+F40+J40+N40 -> 29040372 | S40: =+R40/Q40 -> 0.5948458
A41: 32. | B41: Bérleti és lízing díjak | C41: K333 | D41: 2700000 | E41: 2700000 | F41: 126480 | G41: =+F41/E41 -> 0.046844444 | H41: 300000 | I41: 300000 | J41: 112800 | K41: =+J41/I41 -> 0.376 | L41: 0 | M41: 0 | N41: 0 | P41: =+D41+H41+L41 -> 3000000 | Q41: =+E41+I41+M41 -> 3000000 | R41: =+F41+J41+N41 -> 239280 | S41: =+R41/Q41 -> 0.07976
A42: 33. | B42: Karbantartási, kisjavítási szolgáltatások | C42: K334 | D42: 10000000 | E42: 10000000 | F42: 6139791 | G42: =+F42/E42 -> 0.6139791 | H42: 200000 | I42: 200000 | J42: 0 | L42: 1500000 | M42: 1500000 | N42: 414000 | O42: =+N42/M42 -> 0.276 | P42: =+D42+H42+L42 -> 11700000 | Q42: =+E42+I42+M42 -> 11700000 | R42: =+F42+J42+N42 -> 6553791 | S42: =+R42/Q42 -> 0.56015308
A43: 34. | B43: Közvetített szolgáltatások | C43: K335 | D43: 4000000 | E43: 7000000 | F43: 3383876 | G43: =+F43/E43 -> 0.48341086 | H43: 0 | I43: 0 | J43: 0 | L43: 0 | M43: 0 | N43: 0 | P43: =+D43+H43+L43 -> 4000000 | Q43: =+E43+I43+M43 -> 7000000 | R43: =+F43+J43+N43 -> 3383876 | S43: =+R43/Q43 -> 0.48341086
A44: 35. | B44: Szakmai tevékenységet segítő szolgáltatások | C44: K336 | D44: 8000000 | E44: 8000000 | F44: 1985525 | G44: =+F44/E44 -> 0.24819062 | H44: 1100000 | I44: 1100000 | J44: 45000 | K44: =+J44/I44 -> 0.040909091 | L44: 150000 | M44: 150000 | N44: 33900 | O44: =+N44/M44 -> 0.226 | P44: =+D44+H44+L44 -> 9250000 | Q44: =+E44+I44+M44 -> 9250000 | R44: =+F44+J44+N44 -> 2064425 | S44: =+R44/Q44 -> 0.22318108
A45: 36. | B45: Egyéb szolgáltatások | C45: K337 | D45: 25000000 | E45: 23000000 | F45: 6704218 | G45: =+F45/E45 -> 0.29148774 | H45: 2200000 | I45: 2199005 | J45: 1200734 | K45: =+J45/I45 -> 0.54603514 | L45: 3500000 | M45: 3398812 | N45: 1545332 | O45: =+N45/M45 -> 0.45466828 | P45: =+D45+H45+L45 -> 30700000 | Q45: =+E45+I45+M45 -> 28597817 | R45: =+F45+J45+N45 -> 9450284 | S45: =+R45/Q45 -> 0.33045473
A46: 37. | B46: Szolgáltatási kiadások (=28+…+36) | C46: K33 | D46: =SUM(D37:D45) -> 104800000 | E46: =SUM(E37:E45) -> 107800000 | F46: =SUM(F37:F45) -> 50801169 | G46: =+F46/E46 -> 0.47125389 | H46: =SUM(H37:H45) -> 5900000 | I46: =SUM(I37:I45) -> 5899005 | J46: =SUM(J37:J45) -> 2535467 | K46: =+J46/I46 -> 0.42981265 | L46: =SUM(L37:L45) -> 42270000 | M46: =SUM(M37:M45) -> 42168812 | N46: =SUM(N37:N45) -> 22847575 | O46: =+N46/M46 -> 0.54181216 | P46: =SUM(P37:P45) -> 152970000 | Q46: =SUM(Q37:Q45) -> 155867817 | R46: =SUM(R37:R45) -> 76184211 | S46: =+R46/Q46 -> 0.48877448
A47: 38. | B47: Kiküldetések kiadásai | C47: K341 | D47: 80000 | E47: 80000 | F47: 48720 | G47: =+F47/E47 -> 0.609 | H47: 50000 | I47: 66013 | J47: 16013 | K47: =+J47/I47 -> 0.24257343 | L47: 10000 | M47: 10000 | N47: 0 | P47: =+D47+H47+L47 -> 140000 | Q47: =+E47+I47+M47 -> 156013 | R47: =+F47+J47+N47 -> 64733 | S47: =+R47/Q47 -> 0.41492055
A48: 39. | B48: Reklám- és propagandakiadások | C48: K342 | D48: 1350000 | E48: 1350000 | F48: 1021800 | G48: =+F48/E48 -> 0.75688889 | H48: 0 | I48: 0 | J48: 0 | L48: 0 | M48: 0 | N48: 0 | P48: =+D48+H48+L48 -> 1350000 | Q48: =+E48+I48+M48 -> 1350000 | R48: =+F48+J48+N48 -> 1021800 | S48: =+R48/Q48 -> 0.75688889
A49: 40. | B49: Kiküldetések, reklám- és propagandakiadások (=38+39) | C49: K34 | D49: =SUM(D47:D48) -> 1430000 | E49: =SUM(E47:E48) -> 1430000 | F49: =SUM(F47:F48) -> 1070520 | G49: =+F49/E49 -> 0.74861538 | H49: =SUM(H47:H48) -> 50000 | I49: =SUM(I47:I48) -> 66013 | J49: =SUM(J47:J48) -> 16013 | K49: =+J49/I49 -> 0.24257343 | L49: =SUM(L47:L48) -> 10000 | M49: =SUM(M47:M48) -> 10000 | N49: =SUM(N47:N48) -> 0 | O49: =+N49/M49 -> 0 | P49: =SUM(P47:P48) -> 1490000 | Q49: =SUM(Q47:Q48) -> 1506013 | R49: =SUM(R47:R48) -> 1086533 | S49: =+R49/Q49 -> 0.72146323
A50: 41. | B50: Működési célú előzetesen felszámított általános forgalmi adó | C50: K351 | D50: 28000000 | E50: 28000000 | F50: 14141710 | G50: =+F50/E50 -> 0.50506107 | H50: 2200000 | I50: 2245960 | J50: 700847 | K50: =+J50/I50 -> 0.31204785 | L50: 11500000 | M50: 11500000 | N50: 6246897 | O50: =+N50/M50 -> 0.54320843 | P50: =+D50+H50+L50 -> 41700000 | Q50: =+E50+I50+M50 -> 41745960 | R50: =+F50+J50+N50 -> 21089454 | S50: =+R50/Q50 -> 0.50518551
A51: 42. | B51: Fizetendő általános forgalmi adó | C51: K352 | D51: 114593000 | E51: 114593000 | F51: 0 | G51: =+F51/E51 -> 0 | H51: 0 | I51: 0 | J51: 0 | L51: 0 | M51: 0 | N51: 0 | P51: =+D51+H51+L51 -> 114593000 | Q51: =+E51+I51+M51 -> 114593000 | R51: =+F51+J51+N51 -> 0
A52: 43. | B52: Kamatkiadások | C52: K353 | D52: 44804 | E52: 44804 | F52: 2763 | G52: =+F52/E52 -> 0.061668601 | H52: 0 | I52: 0 | J52: 0 | L52: 0 | M52: 0 | N52: 0 | P52: =+D52+H52+L52 -> 44804 | Q52: =+E52+I52+M52 -> 44804 | R52: =+F52+J52+N52 -> 2763 | S52: =+R52/Q52 -> 0.061668601
A53: 44. | B53: Egyéb pénzügyi műveletek kiadásai | C53: K354 | D53: 0 | E53: 12720 | F53: 12720 | G53: =+F53/E53 -> 1 | H53: 0 | I53: 0 | J53: 0 | L53: 0 | M53: 0 | N53: 0 | P53: =+D53+H53+L53 -> 0 | Q53: =+E53+I53+M53 -> 12720 | R53: =+F53+J53+N53 -> 12720 | S53: =+R53/Q53 -> 1
A54: 45. | B54: Egyéb dologi kiadások | C54: K355 | D54: 2320000 | E54: 2307280 | F54: 1361127 | G54: =+F54/E54 -> 0.5899271 | H54: 5000 | I54: 109784 | J54: 109187 | K54: =+J54/I54 -> 0.99456205 | L54: 5000 | M54: 106200 | N54: 81184 | O54: =+N54/M54 -> 0.76444444 | P54: =+D54+H54+L54 -> 2330000 | Q54: =+E54+I54+M54 -> 2523264 | R54: =+F54+J54+N54 -> 1551498 | S54: =+R54/Q54 -> 0.6148774
A55: 46. | B55: Különféle befizetések és egyéb dologi kiadások (=41+…+45) | C55: K35 | D55: =SUM(D50:D54) -> 144957804 | E55: =SUM(E50:E54) -> 144957804 | F55: =SUM(F50:F54) -> 15518320 | G55: =+F55/E55 -> 0.10705405 | H55: =SUM(H50:H54) -> 2205000 | I55: =SUM(I50:I54) -> 2355744 | J55: =SUM(J50:J54) -> 810034 | K55: =+J55/I55 -> 0.34385485 | L55: =SUM(L50:L54) -> 11505000 | M55: =SUM(M50:M54) -> 11606200 | N55: =SUM(N50:N54) -> 6328081 | O55: =+N55/M55 -> 0.54523281 | P55: =SUM(P50:P54) -> 158667804 | Q55: =SUM(Q50:Q54) -> 158919748 | R55: =SUM(R50:R54) -> 22656435 | S55: =+R55/Q55 -> 0.14256526
A56: 47. | B56: Dologi kiadások (=24+27+37+40+46) | C56: K3 | D56: =+D33+D36+D46+D49+D55 -> 267687804 | E56: =+E33+E36+E46+E49+E55 -> 270687804 | F56: =+F33+F36+F46+F49+F55 -> 74966420 | G56: =+F56/E56 -> 0.2769479 | H56: =+H33+H36+H46+H49+H55 -> 10355000 | I56: =+I33+I36+I46+I49+I55 -> 10690981 | J56: =+J33+J36+J46+J49+J55 -> 4531688 | K56: =+J56/I56 -> 0.42387953 | L56: =+L33+L36+L46+L49+L55 -> 57385000 | M56: =+M33+M36+M46+M49+M55 -> 57385012 | N56: =+N33+N36+N46+N49+N55 -> 30487724 | O56: =+N56/M56 -> 0.53128374 | P56: =+P33+P36+P46+P49+P55 -> 335427804 | Q56: =+Q33+Q36+Q46+Q49+Q55 -> 338763797 | R56: =+R33+R36+R46+R49+R55 -> 109985832 | S56: =+R56/Q56 -> 0.3246682
A57: 48. | B57: Intézményi ellátottak pénzbeli juttatásai | C57: K47 | D57: 0 | E57: 0 | F57: 0 | H57: 0 | I57: 0 | J57: 0 | L57: 0 | M57: 0 | N57: 0 | P57: =+D57+H57+L57 -> 0 | Q57: =+E57+I57+M57 -> 0 | R57: =+F57+J57+N57 -> 0
A58: 49. | B58: Egyéb nem intézményi ellátások | C58: K48 | D58: 4200000 | E58: 4200000 | F58: 626380 | G58: =+F58/E58 -> 0.1491381 | H58: 0 | I58: 0 | J58: 0 | L58: 0 | M58: 0 | N58: 0 | P58: =+D58+H58+L58 -> 4200000 | Q58: =+E58+I58+M58 -> 4200000 | R58: =+F58+J58+N58 -> 626380 | S58: =+R58/Q58 -> 0.1491381
A59: 50. | B59: Ellátottak pénzbeli juttatásai (=48+49) | C59: K4 | D59: =SUM(D57:D58) -> 4200000 | E59: =SUM(E57:E58) -> 4200000 | F59: =SUM(F57:F58) -> 626380 | G59: =+F59/E59 -> 0.1491381 | H59: =SUM(H57:H58) -> 0 | I59: =SUM(I57:I58) -> 0 | J59: =SUM(J57:J58) -> 0 | L59: =SUM(L57:L58) -> 0 | M59: =SUM(M57:M58) -> 0 | N59: =SUM(N57:N58) -> 0 | P59: =SUM(P57:P58) -> 4200000 | Q59: =SUM(Q57:Q58) -> 4200000 | R59: =SUM(R57:R58) -> 626380 | S59: =+R59/Q59 -> 0.1491381
A60: 51. | B60: A helyi önkormányzatok előző évi elszámolásából származó kiadások | C60: K5021 | D60: 0 | E60: 0 | F60: 0 | H60: 0 | I60: 0 | J60: 0 | M60: 0 | N60: 0 | P60: =+D60+H60+L60 -> 0 | Q60: =+E60+I60+M60 -> 0 | R60: =+F60+J60+N60 -> 0
A61: 52. | B61: A helyi önkormányzatok törvényi előíráson alapuló befizetései | C61: K5022 | D61: 0 | E61: 0 | F61: 0 | H61: 0 | I61: 0 | J61: 0 | M61: 0 | N61: 0 | P61: =+D61+H61+L61 -> 0 | Q61: =+E61+I61+M61 -> 0 | R61: =+F61+J61+N61 -> 0
A62: 53. | B62: Egyéb elvonások, befizetések | C62: K5023 | D62: 0 | E62: 0 | F62: 0 | H62: 0 | I62: 0 | J62: 0 | M62: 0 | N62: 0 | P62: =+D62+H62+L62 -> 0 | Q62: =+E62+I62+M62 -> 0 | R62: =+F62+J62+N62 -> 0
A63: 54. | B63: Elvonások és befizetések (=51+52+53) | C63: K502 | D63: =SUM(D60:D62) -> 0 | E63: =SUM(E60:E62) -> 0 | F63: =SUM(F60:F62) -> 0 | H63: =SUM(H60:H62) -> 0 | I63: =SUM(I60:I62) -> 0 | J63: =SUM(J60:J62) -> 0 | L63: =SUM(L60:L62) -> 0 | M63: =SUM(M60:M62) -> 0 | N63: =SUM(N60:N62) -> 0 | P63: =SUM(P60:P62) -> 0 | Q63: =SUM(Q60:Q62) -> 0 | R63: =SUM(R60:R62) -> 0
A64: 55. | B64: Működési célú garancia- és kezességvállalásból származó kifizetés államháztartáson belülre | C64: K503 | D64: 0 | E64: 0 | F64: 0 | H64: 0 | I64: 0 | J64: 0 | L64: 0 | M64: 0 | N64: 0 | P64: =+D64+H64+L64 -> 0 | Q64: =+E64+I64+M64 -> 0 | R64: =+F64+J64+N64 -> 0
A65: 56. | B65: Működési célú visszatérítendő támogatások, kölcsönök nyújtása államháztartáson belülre | C65: K504 | D65: 0 | E65: 0 | F65: 0 | H65: 0 | I65: 0 | J65: 0 | L65: 0 | M65: 0 | N65: 0 | P65: =+D65+H65+L65 -> 0 | Q65: =+E65+I65+M65 -> 0 | R65: =+F65+J65+N65 -> 0
A66: 57. | B66: Működési célú visszatérítendő támogatások, kölcsönök törlesztése államháztartáson belülre | C66: K505 | D66: 0 | E66: 0 | F66: 0 | H66: 0 | I66: 0 | J66: 0 | L66: 0 | M66: 0 | N66: 0 | P66: =+D66+H66+L66 -> 0 | Q66: =+E66+I66+M66 -> 0 | R66: =+F66+J66+N66 -> 0
A67: 58. | B67: Egyéb működési célú támogatások államháztartáson belülre | C67: K506 | D67: 12715106 | E67: 12715106 | F67: 11177240 | G67: =+F67/E67 -> 0.87905205 | H67: 0 | I67: 0 | J67: 0 | L67: 0 | M67: 0 | N67: 0 | P67: =+D67+H67+L67 -> 12715106 | Q67: =+E67+I67+M67 -> 12715106 | R67: =+F67+J67+N67 -> 11177240 | S67: =+R67/Q67 -> 0.87905205
A68: 59. | B68: Működési célú garancia- és kezességvállalásból származó kifizetés államháztartáson kívülre | C68: K507 | D68: 0 | E68: 0 | F68: 0 | H68: 0 | I68: 0 | J68: 0 | L68: 0 | M68: 0 | N68: 0 | P68: =+D68+H68+L68 -> 0 | Q68: =+E68+I68+M68 -> 0 | R68: =+F68+J68+N68 -> 0
A69: 60. | B69: Működési célú visszatérítendő támogatások, kölcsönök nyújtása államháztartáson kívülre | C69: K508 | D69: 0 | E69: 0 | F69: 0 | H69: 0 | I69: 0 | J69: 0 | L69: 0 | M69: 0 | N69: 0 | P69: =+D69+H69+L69 -> 0 | Q69: =+E69+I69+M69 -> 0 | R69: =+F69+J69+N69 -> 0
A70: 61. | B70: Árkiegészítések, ártámogatások | C70: K509 | D70: 0 | E70: 0 | F70: 0 | H70: 0 | I70: 0 | J70: 0 | L70: 0 | M70: 0 | N70: 0 | P70: =+D70+H70+L70 -> 0 | Q70: =+E70+I70+M70 -> 0 | R70: =+F70+J70+N70 -> 0
A71: 62. | B71: Kamattámogatások | C71: K510 | D71: 0 | E71: 0 | F71: 0 | H71: 0 | I71: 0 | J71: 0 | L71: 0 | M71: 0 | N71: 0 | P71: =+D71+H71+L71 -> 0 | Q71: =+E71+I71+M71 -> 0 | R71: =+F71+J71+N71 -> 0
A72: 63. | B72: Egyéb működési célú támogatások államháztartáson kívülre | C72: K512 | D72: 3610000 | E72: 3610000 | F72: 3015235 | G72: =+F72/E72 -> 0.83524515 | H72: 0 | I72: 0 | J72: 0 | L72: 0 | M72: 0 | N72: 0 | P72: =+D72+H72+L72 -> 3610000 | Q72: =+E72+I72+M72 -> 3610000 | R72: =+F72+J72+N72 -> 3015235 | S72: =+R72/Q72 -> 0.83524515
A73: 64. | B73: Tartalékok | C73: K513 | D73: 10000000 | E73: 35462800 | H73: 0 | I73: 0 | J73: 0 | L73: 0 | M73: 0 | N73: 0 | P73: =+D73+H73+L73 -> 10000000 | Q73: =+E73+I73+M73 -> 35462800
A74: 65. | B74: Egyéb működési célú kiadások (=54+55…+64) | C74: K5 | D74: =+D63+D64+D65+D66+D67+D68+D69+D70+D71+D72+D73 -> 26325106 | E74: =+E63+E64+E65+E66+E67+E68+E69+E70+E71+E72+E73 -> 51787906 | F74: =+F63+F64+F65+F66+F67+F68+F69+F70+F71+F72+F73 -> 14192475 | G74: =+F74/E74 -> 0.27404999 | H74: =+H63+H64+H65+H66+H67+H68+H69+H70+H71+H72+H73 -> 0 | I74: =+I63+I64+I65+I66+I67+I68+I69+I70+I71+I72+I73 -> 0 | J74: =+J63+J64+J65+J66+J67+J68+J69+J70+J71+J72+J73 -> 0 | L74: =+L63+L64+L65+L66+L67+L68+L69+L70+L71+L72+L73 -> 0 | M74: =+M63+M64+M65+M66+M67+M68+M69+M70+M71+M72+M73 -> 0 | N74: =+N63+N64+N65+N66+N67+N68+N69+N70+N71+N72+N73 -> 0 | P74: =+P63+P64+P65+P66+P67+P68+P69+P70+P71+P72+P73 -> 26325106 | Q74: =+Q63+Q64+Q65+Q66+Q67+Q68+Q69+Q70+Q71+Q72+Q73 -> 51787906 | R74: =+R63+R64+R65+R66+R67+R68+R69+R70+R71+R72+R73 -> 14192475 | S74: =+R74/Q74 -> 0.27404999
A75: 66. | B75: Immateriális javak beszerzése, létesítése | C75: K61 | D75: 0 | E75: 0 | F75: 0 | H75: 0 | I75: 83661 | J75: 83661 | K75: =+J75/I75 -> 1 | L75: 0 | M75: 0 | N75: 0 | P75: =+D75+H75+L75 -> 0 | Q75: =+E75+I75+M75 -> 83661 | R75: =+F75+J75+N75 -> 83661 | S75: =+R75/Q75 -> 1
A76: 67. | B76: Ingatlanok beszerzése, létesítése | C76: K62 | D76: 475486057 | E76: 475590006 | F76: 22423948 | G76: =+F76/E76 -> 0.047149746 | H76: 0 | I76: 200000 | J76: 0 | K76: =+J76/I76 -> 0 | L76: 0 | M76: 0 | N76: 0 | P76: =+D76+H76+L76 -> 475486057 | Q76: =+E76+I76+M76 -> 475790006 | R76: =+F76+J76+N76 -> 22423948 | S76: =+R76/Q76 -> 0.047129926
A77: 68. | B77: Informatikai eszközök beszerzése, létesítése | C77: K63 | D77: 0 | E77: 0 | F77: 0 | H77: 200000 | I77: 128937 | J77: 0 | K77: =+J77/I77 -> 0 | L77: 393700 | M77: 393700 | N77: 179370 | O77: =+N77/M77 -> 0.45560071 | P77: =+D77+H77+L77 -> 593700 | Q77: =+E77+I77+M77 -> 522637 | R77: =+F77+J77+N77 -> 179370 | S77: =+R77/Q77 -> 0.34320188
A78: 69. | B78: Egyéb tárgyi eszközök beszerzése, létesítése | C78: K64 | D78: 19338583 | E78: 19370859 | F78: 32276 | G78: =+F78/E78 -> 0.0016662142 | H78: 212598 | I78: 329850 | J78: 452661 | K78: =+J78/I78 -> 1.3723238 | L78: 1181101 | M78: 1181101 | N78: 0 | O78: =+N78/M78 -> 0 | P78: =+D78+H78+L78 -> 20732282 | Q78: =+E78+I78+M78 -> 20881810 | R78: =+F78+J78+N78 -> 484937 | S78: =+R78/Q78 -> 0.023222939
A79: 70. | B79: Beruházási célú előzetesen felszámított általános forgalmi adó | C79: K67 | D79: =13713959 -> 13713959 | E79: 13750743 | F79: 6063181 | G79: =+F79/E79 -> 0.44093479 | H79: 111402 | I79: 200462 | J79: 144808 | K79: =+J79/I79 -> 0.72237132 | L79: =+(+L77+L78)*0.27 -> 425196.27 | M79: =+(+M77+M78)*0.27 -> 425196.27 | N79: 48430 | O79: =+N79/M79 -> 0.11390034 | P79: =+D79+H79+L79 -> 14250557 | Q79: =+E79+I79+M79 -> 14376401 | R79: =+F79+J79+N79 -> 6256419 | S79: =+R79/Q79 -> 0.43518673
A80: 71. | B80: Beruházások (=66+…+70) | C80: K6 | D80: =SUM(D75:D79) -> 508538599 | E80: =SUM(E75:E79) -> 508711608 | F80: =SUM(F75:F79) -> 28519405 | G80: =+F80/E80 -> 0.056062029 | H80: =SUM(H75:H79) -> 524000 | I80: =SUM(I75:I79) -> 942910 | J80: =SUM(J75:J79) -> 681130 | K80: =+J80/I80 -> 0.72237011 | L80: =SUM(L75:L79) -> 1999997.3 | M80: =SUM(M75:M79) -> 1999997.3 | N80: =SUM(N75:N79) -> 227800 | O80: =+N80/M80 -> 0.11390016 | P80: =SUM(P75:P79) -> 5.110626e+08 | Q80: =SUM(Q75:Q79) -> 5.1165452e+08 | R80: =SUM(R75:R79) -> 29428335 | S80: =+R80/Q80 -> 0.057516027
A81: 72. | B81: Ingatlanok felújítása | C81: K71 | D81: 143307000 | E81: 146764828 | F81: 2670428 | G81: =+F81/E81 -> 0.018195286 | H81: 0 | I81: 0 | J81: 0 | L81: 0 | M81: 0 | N81: 0 | P81: =+D81+H81+L81 -> 143307000 | Q81: =+E81+I81+M81 -> 146764828 | R81: =+F81+J81+N81 -> 2670428 | S81: =+R81/Q81 -> 0.018195286
A82: 73. | B82: Informatikai eszközök felújítása | C82: K72 | D82: 0 | E82: 0 | F82: 0 | H82: 0 | I82: 0 | J82: 0 | L82: 0 | M82: 0 | N82: 0 | P82: =+D82+H82+L82 -> 0 | Q82: =+E82+I82+M82 -> 0 | R82: =+F82+J82+N82 -> 0
A83: 74. | B83: Egyéb tárgyi eszközök felújítása | C83: K73 | D83: 0 | E83: 0 | F83: 0 | H83: 0 | I83: 0 | J83: 0 | L83: 0 | M83: 0 | N83: 0 | P83: =+D83+H83+L83 -> 0 | Q83: =+E83+I83+M83 -> 0 | R83: =+F83+J83+N83 -> 0
A84: 75. | B84: Felújítási célú előzetesen felszámított általános forgalmi adó | C84: K74 | D84: 38693000 | E84: 39626614 | F84: 721016 | G84: =+F84/E84 -> 0.018195246 | H84: 0 | I84: 0 | J84: 0 | L84: 0 | M84: 0 | N84: 0 | P84: =+D84+H84+L84 -> 38693000 | Q84: =+E84+I84+M84 -> 39626614 | R84: =+F84+J84+N84 -> 721016 | S84: =+R84/Q84 -> 0.018195246
A85: 76. | B85: Felújítások (=72+...+75) | C85: K7 | D85: =SUM(D81:D84) -> 182000000 | E85: =SUM(E81:E84) -> 186391442 | F85: =SUM(F81:F84) -> 3391444 | G85: =+F85/E85 -> 0.018195277 | H85: =SUM(H81:H84) -> 0 | I85: =SUM(I81:I84) -> 0 | J85: 0 | L85: =SUM(L81:L84) -> 0 | M85: =SUM(M81:M84) -> 0 | N85: =SUM(N81:N84) -> 0 | P85: =SUM(P81:P84) -> 182000000 | Q85: =SUM(Q81:Q84) -> 186391442 | R85: =SUM(R81:R84) -> 3391444 | S85: =+R85/Q85 -> 0.018195277
A86: 77. | B86: Felhalmozási célú garancia- és kezességvállalásból származó kifizetés államháztartáson belülre | C86: K81 | D86: 0 | E86: 0 | F86: 0 | H86: 0 | I86: 0 | J86: 0 | L86: 0 | M86: 0 | N86: 0 | P86: =+D86+H86+L86 -> 0 | Q86: =+E86+I86+M86 -> 0 | R86: =+F86+J86+N86 -> 0
A87: 78. | B87: Felhalmozási célú visszatérítendő támogatások, kölcsönök nyújtása államháztartáson belülre | C87: K82 | D87: 0 | E87: 0 | F87: 0 | H87: 0 | I87: 0 | J87: 0 | L87: 0 | M87: 0 | N87: 0 | P87: =+D87+H87+L87 -> 0 | Q87: =+E87+I87+M87 -> 0 | R87: =+F87+J87+N87 -> 0
A88: 79. | B88: Felhalmozási célú visszatérítendő támogatások, kölcsönök törlesztése államháztartáson belülre | C88: K83 | D88: 0 | E88: 0 | F88: 0 | H88: 0 | I88: 0 | J88: 0 | L88: 0 | M88: 0 | N88: 0 | P88: =+D88+H88+L88 -> 0 | Q88: =+E88+I88+M88 -> 0 | R88: =+F88+J88+N88 -> 0
A89: 80. | B89: Egyéb felhalmozási célú támogatások államháztartáson belülre | C89: K84 | D89: 0 | E89: 307204 | F89: 307204 | G89: =+F89/E89 -> 1 | H89: 0 | I89: 0 | J89: 0 | L89: 0 | M89: 0 | N89: 0 | P89: =+D89+H89+L89 -> 0 | Q89: =+E89+I89+M89 -> 307204 | R89: =+F89+J89+N89 -> 307204 | S89: =+R89/Q89 -> 1
A90: 81. | B90: Felhalmozási célú garancia- és kezességvállalásból származó kifizetés államháztartáson kívülre | C90: K85 | D90: 0 | E90: 0 | F90: 0 | H90: 0 | I90: 0 | J90: 0 | L90: 0 | M90: 0 | N90: 0 | P90: =+D90+H90+L90 -> 0 | Q90: =+E90+I90+M90 -> 0 | R90: =+F90+J90+N90 -> 0
A91: 82. | B91: Felhalmozási célú visszatérítendő támogatások, kölcsönök nyújtása államháztartáson kívülre | C91: K86 | D91: 0 | E91: 0 | F91: 0 | H91: 0 | I91: 0 | J91: 0 | L91: 0 | M91: 0 | N91: 0 | P91: =+D91+H91+L91 -> 0 | Q91: =+E91+I91+M91 -> 0 | R91: =+F91+J91+N91 -> 0
A92: 83. | B92: Egyéb felhalmozási célú támogatások államháztartáson kívülre | C92: K89 | D92: 0 | E92: 0 | F92: 0 | H92: 0 | I92: 0 | J92: 0 | L92: 0 | M92: 0 | N92: 0 | P92: =+D92+H92+L92 -> 0 | Q92: =+E92+I92+M92 -> 0 | R92: =+F92+J92+N92 -> 0
A93: 84. | B93: Egyéb felhalmozási célú kiadások (=77+…+83) | C93: K8 | D93: =SUM(D86:D92) -> 0 | E93: =SUM(E86:E92) -> 307204 | F93: =SUM(F86:F92) -> 307204 | G93: =+F93/E93 -> 1 | H93: =SUM(H86:H92) -> 0 | I93: =SUM(I86:I92) -> 0 | J93: =SUM(J88:J92) -> 0 | L93: =SUM(L86:L92) -> 0 | M93: =SUM(M86:M92) -> 0 | N93: =SUM(N86:N92) -> 0 | P93: =SUM(P86:P92) -> 0 | Q93: =SUM(Q86:Q92) -> 307204 | R93: =SUM(R86:R92) -> 307204 | S93: =+R93/Q93 -> 1
A94: 85. | B94: Költségvetési kiadások összesen (=19+20+45+54+71+79+84+94) | C94: K1-K8 | D94: =+D28+D29+D56+D59+D74+D80+D85+D93 -> 1174096509 | E94: =+E28+E29+E56+E59+E74+E80+E85+E93 -> 1207430964 | F94: =+F28+F29+F56+F59+F74+F80+F85+F93 -> 208237602 | G94: =+F94/E94 -> 0.17246336 | H94: =+H28+H29+H56+H59+H74+H80+H85+H93 -> 163056997 | I94: =+I28+I29+I56+I59+I74+I80+I85+I93 -> 167910710 | J94: =+J28+J29+J56+J59+J74+J80+J85+J93 -> 85749514 | K94: =+J94/I94 -> 0.5106852 | L94: =+L28+L29+L56+L59+L74+L80+L85+L93 -> 4.066073e+08 | M94: =+M28+M29+M56+M59+M74+M80+M85+M93 -> 4.0913091e+08 | N94: =+N28+N29+N56+N59+N74+N80+N85+N93 -> 197001522 | O94: =+N94/M94 -> 0.4815122 | P94: =+P28+P29+P56+P59+P74+P80+P85+P93 -> 1.7437608e+09 | Q94: =+Q28+Q29+Q56+Q59+Q74+Q80+Q85+Q93 -> 1.7844726e+09 | R94: =+R28+R29+R56+R59+R74+R80+R85+R93 -> 490988638 | S94: =+R94/Q94 -> 0.27514496
A96: FINANSZÍROZÁSI KIADÁSOK
A97: Sorszám | B97: A. | C97: B. | D97: C. | E97: D. | F97: E. | G97: F. | H97: G. | I97: H. | J97: I. | K97: J. | L97: K. | M97: L. | N97: M. | O97: N. | P97: O. | Q97: P. | R97: Q. | S97: R.
B98: Megnevezés | C98: Rovat száma | D98: Tokod Nagyközség Önkormányzata | H98: Tokodi Polgármesteri Hivatal | L98: Tokodi Mesevár Óvoda- Mini Bölcsőde és Bölcsőde | P98: Az Önkormányzat és intézményei összesen
D99: Eredeti | E99: Módosított | F99: Teljesítés | H99: Eredeti | I99: Módosított | J99: Teljesítés | L99: Eredeti | M99: Módosított | N99: Teljesítés | P99: Eredeti | Q99: Módosított | R99: Teljesítés
D100: Előirányzat | H100: Előirányzat | L100: Előirányzat | P100: Előirányzat
A101: 86. | B101: Hosszú lejáratú hitelek, kölcsönök törlesztése pénzügyi vállalkozásnak | C101: K9111 | D101: 0 | E101: 0 | F101: 0 | H101: 0 | I101: 0 | J101: 0 | L101: 0 | M101: 0 | N101: 0 | P101: =+D101+H101+L101 -> 0 | Q101: =+E101+I101+M101 -> 0 | R101: =+F101+J101+N101 -> 0
A102: 87. | B102: Likviditási célú hitelek, kölcsönök törlesztése pénzügyi vállalkozásnak | C102: K9112 | D102: 0 | E102: 0 | F102: 0 | H102: 0 | I102: 0 | J102: 0 | L102: 0 | M102: 0 | N102: 0 | P102: =+D102+H102+L102 -> 0 | Q102: =+E102+I102+M102 -> 0 | R102: =+F102+J102+N102 -> 0
...

Sheet 3. melléklet
A1: TOKOD NAGYKÖZSÉG ÖNKORMÁNYZATA 2026. ÉVI KÖLTSÉGVETÉSÉNEK I. FÉLÉVI TELJESÍTÉSE
A2: ÖSSZEVONT BEVÉTELEK ÉS KIADÁSOK EGYENLEGE (adatok forintban)
B4: A. | D4: B. | E4: C. | F4: D. | G4: E. | H4: F.
A5: Sorszám | B5: BEVÉTELEK jogcím megnevezése | D5: Tokod Nagyközség Önkormányzata és a hozzá kapcsolódó intézmények
D6: 2025. évi tényadat | E6: 2026. évi eredeti előirányzat | F6: 2026.évi módosított előirányzat I. | G6: 2026. I. félévi tényadat | H6: Teljesítési mutató
A7: 1. | B7: MŰKÖDÉSI CÉLÚ KÖLTSÉGVETÉSI BEVÉTELEK
A8: 2. | B8: B11 | C8: Önkormányzat működési támogatásai | D8: 556967969 | E8: =+'1. melléklet'!P17 -> 539453225 | F8: =+'1. melléklet'!Q17 -> 554690258 | G8: =+'1. melléklet'!R17 -> 294179515 | H8: =+G8/F8 -> 0.53034916
A9: 3. | B9: B12-16 | C9: Működési célú támogatások államháztartáson belülről | D9: 26399949 | E9: =+'1. melléklet'!P23 -> 48549527 | F9: =+'1. melléklet'!Q23 -> 72447373 | G9: =+'1. melléklet'!R23 -> 61101694 | H9: =+G9/F9 -> 0.8433942
A10: 4. | B10: B3 | C10: Közhatalmi bevételek | D10: 205178345 | E10: =+'1. melléklet'!P33 -> 188500000 | F10: =+'1. melléklet'!Q33 -> 188500000 | G10: =+'1. melléklet'!R33 -> 94183663 | H10: =+G10/F10 -> 0.49964808
A11: 5. | B11: B4 | C11: Működési bevételek | D11: =38455749+140229+3204463 -> 41800441 | E11: =+'1. melléklet'!P47 -> 38897715 | F11: =+'1. melléklet'!Q47 -> 44153596 | G11: =+'1. melléklet'!R47 -> 28271441 | H11: =+G11/F11 -> 0.64029759
A12: 6. | B12: B6 | C12: Működési célú átvett pénzeszközök | D12: 262335 | E12: =+'1. melléklet'!P59 -> 500000 | F12: =+'1. melléklet'!Q59 -> 721692 | G12: =+'1. melléklet'!R59 -> 92425 | H12: =+G12/F12 -> 0.1280671
A13: 7. | C13: MŰKÖDÉSI KÖLTSÉGVETÉSI BEVÉTELEK ÖSSZESEN (=2…+6) | D13: =SUM(D8:D12) -> 830609039 | E13: =SUM(E8:E12) -> 815900467 | F13: =SUM(F8:F12) -> 860512919 | G13: =SUM(G8:G12) -> 477828738 | H13: =+G13/F13 -> 0.55528363
A14: 8. | B14: FELHALMOZÁSI CÉLÚ KÖLTSÉGVETÉSI BEVÉTELEK
A15: 9. | B15: B2 | C15: Felhalmozási célú támogatások államháztartáson belülről | D15: 94906692 | E15: =+'1. melléklet'!P29 -> 520045733 | F15: =+'1. melléklet'!Q29 -> 513995733 | G15: =+'1. melléklet'!R29 -> 22998834 | H15: =+G15/F15 -> 0.044745185
A16: 10. | B16: B5 | C16: Felhalmozási bevételek | D16: 95683000 | E16: =+'1. melléklet'!P53 -> 77311200 | F16: =+'1. melléklet'!Q53 -> 77311200 | G16: =+'1. melléklet'!R53 -> 14681040 | H16: =+G16/F16 -> 0.18989538
A17: 11. | B17: B7 | C17: Felhalmozási célú átvett pénzeszközök | D17: 0 | E17: =+'1. melléklet'!P65 -> 10740000 | F17: =+'1. melléklet'!Q65 -> 12922438 | G17: =+'1. melléklet'!R65 -> 12612272 | H17: =+G17/F17 -> 0.97599787
A18: 12. | C18: FELHALMOZÁSI KÖLTSÉGVETÉSI BEVÉTELEK ÖSSZESEN (=9…+11) | D18: =SUM(D15:D17) -> 190589692 | E18: =SUM(E15:E17) -> 608096933 | F18: =SUM(F15:F17) -> 604229371 | G18: =SUM(G15:G17) -> 50292146 | H18: =+G18/F18 -> 0.083233534
A19: 13. | B19: KÖLTSÉGVETÉSI BEVÉTELEK ÖSSZESEN (=7+12) | D19: =+D13+D18 -> 1021198731 | E19: =+E13+E18 -> 1423997400 | F19: =+F13+F18 -> 1464742290 | G19: =+G13+G18 -> 528120884 | H19: =+G19/F19 -> 0.3605555
A20: 14. | B20: FINANSZÍROZÁSI BEVÉTELEK
A21: 15. | C21: Hitel, kölcsön felvétele államháztartáson kívülről | D21: 0 | E21: =+'1. melléklet'!P76 -> 0 | F21: =+'1. melléklet'!Q76 -> 0 | G21: =+'1. melléklet'!R76 -> 0
A22: 16. | C22: Belföldi értékpapírok bevétele | D22: 65097404 | E22: =+'1. melléklet'!P81 -> 67067368 | F22: =+'1. melléklet'!Q81 -> 135923858 | G22: =+'1. melléklet'!R81 -> 67067368 | H22: =+G22/F22 -> 0.49341866
A23: 17. | C23: Maradvány igénybevétele | D23: =329773977+1129570+2120598 -> 333024145 | E23: =+'1. melléklet'!P84 -> 252696037 | F23: =+'1. melléklet'!Q84 -> 252662924 | G23: =+'1. melléklet'!R84 -> 252662924 | H23: =+G23/F23 -> 1
A24: 18. | C24: ÁH-n belüli megelőlegezések bevétele | D24: 23104455 | E24: =+'1. melléklet'!P85+'1. melléklet'!P86 -> 20065423 | F24: =+'1. melléklet'!Q85+'1. melléklet'!Q86 -> 20065423 | G24: =+'1. melléklet'!R85+'1. melléklet'!R86 -> 0 | H24: =+G24/F24 -> 0
A25: 19. | C25: Központi, irányítószervi támogatás | E25: =+'1. melléklet'!P87 -> 0 | F25: =+'1. melléklet'!Q87 -> 0 | G25: =+'1. melléklet'!R87 -> 0
A26: 20. | C26: Lekötött bankbetétek megszűntetése | D26: 0 | E26: =+'1. melléklet'!P88 -> 0 | F26: =+'1. melléklet'!Q88 -> 0 | G26: =+'1. melléklet'!R88 -> 0
A27: 21. | B27: FINANSZÍROZÁSI BEVÉTELEK ÖSSZESEN (=15…+20) | D27: =SUM(D21:D26) -> 421226004 | E27: =SUM(E21:E26) -> 339828828 | F27: =SUM(F21:F26) -> 408652205 | G27: =SUM(G21:G26) -> 319730292 | H27: =+G27/F27 -> 0.78240197
A28: 22. | B28: BEVÉTELEK MINDÖSSZESEN (=13+21) | D28: =+D19+D27 -> 1442424735 | E28: =+E19+E27 -> 1763826228 | F28: =+F19+F27 -> 1873394495 | G28: =+G19+G27 -> 847851176 | H28: =+G28/F28 -> 0.45257482
A30: 23. | B30: KIADÁSOK jogcím megnevezése | D30: Tokod Nagyközség Önkormányzata és a hozzá kapcsolódó intézmények
A31: 24. | D31: 2025. évi tányadat | E31: 2026. évi eredeti előirányzat | F31: 2026.évi módosított előirányzat I. | G31: 2026. I. félévi tényadat | H31: Teljesítési mutató
A32: 25. | B32: MŰKÖDÉSI CÉLÚ KÖLTSÉGVETÉSI KIADÁSOK
A33: 26. | C33: Személyi juttatások | D33: =152654054+106280124+268670196 -> 527604374 | E33: =+'2. melléklet'!P28 -> 606647012 | F33: =+'2. melléklet'!Q28 -> 612486716 | G33: =+'2. melléklet'!R28 -> 289818154 | H33: =+G33/F33 -> 0.47318276
A34: 27. | C34: Munkaadókat terhelő járulékok és szociális hozzájárulási adó | D34: =19553000+13872387+31785015 -> 65210402 | E34: =+'2. melléklet'!P29 -> 78098284 | F34: =+'2. melléklet'!Q29 -> 78881002 | G34: =+'2. melléklet'!R29 -> 43238814 | H34: =+G34/F34 -> 0.54815244
A35: 28. | C35: Dologi kiadások | D35: =56158068+8744435+158659230 -> 223561733 | E35: =+'2. melléklet'!P56 -> 335427804 | F35: =+'2. melléklet'!Q56 -> 338763797 | G35: =+'2. melléklet'!R56 -> 109985832 | H35: =+G35/F35 -> 0.3246682
A36: 29. | C36: Ellátottak pénzbeli juttatásai | D36: 4108999 | E36: =+'2. melléklet'!P59 -> 4200000 | F36: =+'2. melléklet'!Q59 -> 4200000 | G36: =+'2. melléklet'!R59 -> 626380 | H36: =+G36/F36 -> 0.1491381
A37: 30. | C37: Egyéb működési célú kiadások | D37: 110892493 | E37: =+'2. melléklet'!P74 -> 26325106 | F37: =+'2. melléklet'!Q74 -> 51787906 | G37: =+'2. melléklet'!R74 -> 14192475 | H37: =+G37/F37 -> 0.27404999
A38: 31. | C38: MŰKÖDÉSI CÉLÚ KÖLTSÉGVETÉSI KIADÁSOK ÖSSZESEN (=26…+30) | D38: =SUM(D33:D37) -> 931378001 | E38: =SUM(E33:E37) -> 1050698206 | F38: =SUM(F33:F37) -> 1086119421 | G38: =SUM(G33:G37) -> 457861655 | H38: =+G38/F38 -> 0.42155738
A39: 32. | B39: FELHALMOZÁSI CÉLÚ KÖLTSÉGVETÉSI KIADÁSOK
A40: 33. | C40: Beruházások | D40: =954560+5418727+68534508 -> 74907795 | E40: =+'2. melléklet'!P80 -> 5.110626e+08 | F40: =+'2. melléklet'!Q80 -> 5.1165452e+08 | G40: =+'2. melléklet'!R80 -> 29428335 | H40: =+G40/F40 -> 0.057516027
A41: 34. | C41: Felújítások | D41: =909274+31349860 -> 32259134 | E41: =+'2. melléklet'!P85 -> 182000000 | F41: =+'2. melléklet'!Q85 -> 186391442 | G41: =+'2. melléklet'!R85 -> 3391444 | H41: =+G41/F41 -> 0.018195277
A42: 35. | C42: Egyéb felhalmozási célú kiadások | D42: 0 | E42: =+'2. melléklet'!P93 -> 0 | F42: =+'2. melléklet'!Q93 -> 307204 | G42: =+'2. melléklet'!R93 -> 307204 | H42: =+G42/F42 -> 1
A43: 36. | C43: FELHALMOZÁSI CÉLÚ KÖLTSÉGVETÉSI KIADÁSOK ÖSSZESEN (=33…+35) | D43: =SUM(D40:D42) -> 107166929 | E43: =SUM(E40:E42) -> 6.930626e+08 | F43: =SUM(F40:F42) -> 6.9835316e+08 | G43: =SUM(G40:G42) -> 33126983 | H43: =+G43/F43 -> 0.04743586
A44: 37. | B44: KÖLTSÉGVETÉSI KIADÁSOK ÖSSZESEN (=31+36) | D44: =+D38+D43 -> 1038544930 | E44: =+E38+E43 -> 1.7437608e+09 | F44: =+F38+F43 -> 1.7844726e+09 | G44: =+G38+G43 -> 490988638 | H44: =+G44/F44 -> 0.27514496
A45: 38. | B45: FINANSZÍROZÁSI KIADÁSOK
A46: 39. | C46: Belföldi értékpapírok kiadásai | D46: 132164772 | E46: =+'2. melléklet'!P111 -> 0 | F46: =+'2. melléklet'!Q111 -> 68856490 | G46: =+'2. melléklet'!R111 -> 68856490 | H46: =+G46/F46 -> 1
A47: 40. | C47: Államháztartáson belüli megelőlegezések visszafizetése | D47: 19052130 | E47: =+'2. melléklet'!P112+'2. melléklet'!P113 -> 20065423 | F47: =+'2. melléklet'!Q112+'2. melléklet'!Q113 -> 20065423 | G47: =+'2. melléklet'!R112+'2. melléklet'!R113 -> 20065423 | H47: =+G47/F47 -> 1
A48: 41. | C48: Központi, irányítószervi támogatás folyósítása | D48: 0 | E48: =+'2. melléklet'!P114 -> 0 | F48: =+'2. melléklet'!Q114 -> 0 | G48: =+'2. melléklet'!R114 -> 0
A49: 42. | C49: Pénzeszközök betétként történő elhelyezése | D49: 0 | E49: =+'2. melléklet'!P115 -> 0 | F49: =+'2. melléklet'!Q115 -> 0 | G49: =+'2. melléklet'!R115 -> 0
A50: 43. | B50: FINANSZÍROZÁSI KIADÁSOK ÖSSZESEN (=39….+42) | D50: =SUM(D46:D49) -> 151216902 | E50: =SUM(E46:E49) -> 20065423 | F50: =SUM(F46:F49) -> 88921913 | G50: =SUM(G46:G49) -> 88921913 | H50: =+G50/F50 -> 1
A51: 44. | B51: KIADÁSOK MINDÖSSZESEN (=37+43) | D51: =+D44+D50 -> 1189761832 | E51: =+E44+E50 -> 1.7638262e+09 | F51: =+F44+F50 -> 1.8733945e+09 | G51: =+G44+G50 -> 579910551 | H51: =+G51/F51 -> 0.30955069
A53: 45. | B53: KÖLTSÉGVETÉSI BEVÉTELEK ÉS KIADÁSOK EGYENLEGE (=22-44) | D53: =+D28-D51 -> 252662903 | E53: =+E28-E51 -> 2.73 | F53: =+F28-F51 -> -0.26999998 | G53: =+G28-G51 -> 267940625
A56: 46. | B56: KÖLTSÉGVETÉS EGYENLEGE | D56: 2025. évi tényadat | E56: 2026. évi eredeti előirányzat | F56: 2026.évi módosított előirányzat I. | G56: 2026. I. félévi tényadat | H56: Teljesítési mutató
A57: 47. | C57: MŰKÖDÉSI CÉLÚ BEVÉTELEK | D57: =+D13 -> 830609039 | E57: =+E13 -> 815900467 | F57: =+F13 -> 860512919 | G57: =+G13 -> 477828738 | H57: =+G57/F57 -> 0.55528363
A58: 48. | C58: MŰKÖDÉSI CÉLÚ KIADÁSOK | D58: =+D38 -> 931378001 | E58: =+E38 -> 1050698206 | F58: =+F38 -> 1086119421 | G58: =+G38 -> 457861655 | H58: =+G58/F58 -> 0.42155738
A59: 49. | C59: MŰKÖDÉSI CÉLÚ BEVÉTELEK ÉS KIADÁSOK EGYENLEGE | D59: =+D57-D58 -> -100768962 | E59: =+E57-E58 -> -234797739 | F59: =+F57-F58 -> -225606502 | G59: =+G57-G58 -> 19967083 | H59: =+G59/F59 -> -0.088504023
A60: 50. | C60: FELHALMOZÁSI BEVÉTELEK | D60: =+D18 -> 190589692 | E60: =+E18 -> 608096933 | F60: =+F18 -> 604229371 | G60: =+G18 -> 50292146 | H60: =+G60/F60 -> 0.083233534
A61: 51. | C61: FELHALMOZÁSI KIADÁSOK | D61: =+D43 -> 107166929 | E61: =+E43 -> 6.930626e+08 | F61: =+F43 -> 6.9835316e+08 | G61: =+G43 -> 33126983 | H61: =+G61/F61 -> 0.04743586
A62: 52. | C62: FELHALMOZÁSI BEVÉTELEK ÉS KIADÁSOK EGYENLEGE | D62: =+D60-D61 -> 83422763 | E62: =+E60-E61 -> -84965663 | F62: =+F60-F61 -> -94123790 | G62: =+G60-G61 -> 17165163 | H62: =+G62/F62 -> -0.18236795
A64: 53. | B64: KÖLTSÉGVETÉS EGYENLEGE | D64: =+D59+D62 -> -17346199 | E64: =+E59+E62 -> -3.197634e+08 | F64: =+F59+F62 -> -3.1973029e+08 | G64: =+G59+G62 -> 37132246 | H64: =+G64/F64 -> -0.11613615

Sheet 4. melléklet
A1: TOKOD NAGYKÖZSÉG ÖNKORMÁNYZATA 2026. ÉVI KÖLTSÉGVETÉSÉNEK I. FÉLÉVI TELJESÍTÉSE
A2: FELHALMOZÁSI KÖLTSÉGVETÉS KIADÁSAI / BERUHÁZÁSOK (forint bruttó értékben)
A4: Sorszám | C4: A. | D4: B. | E4: C. | F4: D. | G4: E. | H4: F. | I4: G. | J4: H. | K4: I. | L4: J. | M4: K. | N4: L. | O4: M. | P4: N. | Q4: O. | R4: P. | S4: Q.
B5: Megnevezés | D5: Tokod Nagyközség Önkormányzata | H5: Tokodi Polgármesteri Hivatal | L5: Tokodi Mesevár Óvoda- Bölcsőde és Mini-bölcsőde | P5: Az Önkormányzat és intézményei összesen
D6: Eredeti | E6: Módosított | F6: Teljesítés | H6: Eredeti | I6: Módosított | J6: Teljesítés | L6: Eredeti | M6: Módosított | N6: Teljesítés | P6: Eredeti | Q6: Módosított | R6: Teljesítés
D7: Előirányzat | H7: Előirányzat | L7: Előirányzat | P7: Előirányzat
A8: 1. | B8: Immateriális javak beszerzése, létesítése
A9: 2. | C9: Windows program beszerzése | D9: 0 | E9: 0 | F9: 0 | H9: 0 | I9: 83661 | J9: 83661 | K9: =+J9/I9 -> 1 | P9: =+D9+H9+L9 -> 0 | Q9: =+E9+I9+M9 -> 83661 | R9: =+F9+J9+N9 -> 83661 | S9: =+R9/Q9 -> 1
A10: 3. | B10: Immateriális javak beszerzése, létesítése összesen | D10: =SUM(D9:D9) -> 0 | E10: =SUM(E9:E9) -> 0 | H10: =SUM(H9:H9) -> 0 | I10: =SUM(I9:I9) -> 83661 | J10: =SUM(J9:J9) -> 83661 | K10: =+J10/I10 -> 1 | L10: =SUM(L9:L9) -> 0 | M10: =SUM(M9:M9) -> 0 | P10: =SUM(P9:P9) -> 0 | Q10: =SUM(Q9:Q9) -> 83661 | R10: =SUM(R9:R9) -> 83661 | S10: =+R10/Q10 -> 1
A11: 4. | B11: Ingatlanok beszerzése, létesítése
A12: 5. | C12: Pincevölgyi kerékpárút építése | D12: 240393000 | E12: 240393000 | F12: 0 | G12: =+F12/E12 -> 0 | P12: =+D12+H12+L12 -> 240393000 | Q12: =+E12+I12+M12 -> 240393000 | R12: =+F12+J12+N12 -> 0 | S12: =+R12/Q12 -> 0
A13: 6. | C13: Kékinfrastruktúra fejlesztése - Csapadékvíz elvezetése | D13: 75651000 | E13: 75651000 | F13: 0 | G13: =+F13/E13 -> 0 | P13: =+D13+H13+L13 -> 75651000 | Q13: =+E13+I13+M13 -> 75651000 | R13: =+F13+J13+N13 -> 0 | S13: =+R13/Q13 -> 0
A14: 7. | C14: Aktívan a Dunamentén - Aktív és ökoturisztikai fejlesztések - Látogatóközpont | D14: 127988200 | E14: 127988200 | F14: 0 | G14: =+F14/E14 -> 0 | P14: =+D14+H14+L14 -> 127988200 | Q14: =+E14+I14+M14 -> 127988200 | R14: =+F14+J14+N14 -> 0 | S14: =+R14/Q14 -> 0
A15: 8. | C15: Kerékpáros pumpapálya | D15: =38280539-19140270 -> 19140269 | E15: =19140269+94552 -> 19234821 | F15: 19234821 | G15: =+F15/E15 -> 1 | P15: =+D15+H15+L15 -> 19140269 | Q15: =+E15+I15+M15 -> 19234821 | R15: =+F15+J15+N15 -> 19234821 | S15: =+R15/Q15 -> 1
A16: 9. | C16: Óvodai játszóudvar fejlesztése | D16: =3155124+1586599+1270000 -> 6011723 | E16: 6549187 | F16: 6549187 | G16: =+F16/E16 -> 1 | P16: =+D16+H16+L16 -> 6011723 | Q16: =+E16+I16+M16 -> 6549187 | R16: =+F16+J16+N16 -> 6549187 | S16: =+R16/Q16 -> 1
A17: 10. | C17: Ebszőnybányai buszváró telepítése + Üdvözlő tábla áthelyezése | D17: =2694407+100000 -> 2794407 | E17: 2794410 | F17: =2694410-3 -> 2694407 | G17: =+F17/E17 -> 0.9642132 | P17: =+D17+H17+L17 -> 2794407 | Q17: =+E17+I17+M17 -> 2794410 | R17: =+F17+J17+N17 -> 2694407 | S17: =+R17/Q17 -> 0.9642132
A18: 11. | C18: Ingatlan kisajátítások | D18: 11500000 | E18: 11500000 | F18: 0 | G18: =+F18/E18 -> 0 | P18: =+D18+H18+L18 -> 11500000 | Q18: =+E18+I18+M18 -> 11500000 | R18: =+F18+J18+N18 -> 0 | S18: =+R18/Q18 -> 0
A19: 12. | C19: Településfásítás | D19: 500000 | E19: 0 | F19: 0 | P19: =+D19+H19+L19 -> 500000 | Q19: =+E19+I19+M19 -> 0 | R19: =+F19+J19+N19 -> 0
A20: 13. | P20: =+D20+H20+L20 -> 0 | Q20: =+E20+I20+M20 -> 0 | R20: =+F20+J20+N20 -> 0
A21: 14. | B21: Ingatlanok beszerzése, létesítése összesen | D21: =SUM(D12:D20) -> 483978599 | E21: =SUM(E12:E20) -> 484110618 | F21: =SUM(F12:F20) -> 28478415 | G21: =+F21/E21 -> 0.058826256 | H21: =SUM(H12:H20) -> 0 | I21: =SUM(I12:I20) -> 0 | L21: =SUM(L12:L20) -> 0 | M21: =SUM(M12:M20) -> 0 | P21: =SUM(P12:P20) -> 483978599 | Q21: =SUM(Q12:Q20) -> 484110618 | R21: =SUM(R12:R20) -> 28478415 | S21: =+R21/Q21 -> 0.058826256
A22: 15. | B22: Informatikai eszközök beszerzése, létesítése
A23: 16. | C23: Óvoda laptop beszerzés (3 db) | L23: 500000 | M23: 500000 | N23: 227800 | O23: =+N23/M23 -> 0.4556 | P23: =+D23+H23+L23 -> 500000 | Q23: =+E23+I23+M23 -> 500000 | R23: =+F23+J23+N23 -> 227800 | S23: =+R23/Q23 -> 0.4556
A24: 17. | C24: Polgármesteri Hivatal egyéb informatikai eszközbeszerzés | H24: 254000 | I24: 254000 | J24: 0 | K24: =+J24/I24 -> 0 | P24: =+D24+H24+L24 -> 254000 | Q24: =+E24+I24+M24 -> 254000 | R24: =+F24+J24+N24 -> 0 | S24: =+R24/Q24 -> 0
A25: 18. | B25: Informatikai eszközök beszerzése, létesítése összesen | D25: =SUM(D23:D24) -> 0 | E25: =SUM(E23:E24) -> 0 | H25: =SUM(H23:H24) -> 254000 | I25: =SUM(I23:I24) -> 254000 | J25: =SUM(J23:J24) -> 0 | K25: =+J25/I25 -> 0 | L25: =SUM(L23:L24) -> 500000 | M25: =SUM(M23:M24) -> 500000 | N25: =SUM(N23:N24) -> 227800 | O25: =+N25/M25 -> 0.4556 | P25: =SUM(P23:P24) -> 754000 | Q25: =SUM(Q23:Q24) -> 754000 | R25: =SUM(R23:R24) -> 227800 | S25: =+R25/Q25 -> 0.30212202
A26: 19. | B26: Egyéb tárgyi eszközök beszerzése, létesítése
A27: 20. | C27: Közvilágítás korszerűsítése | D27: 22000000 | E27: 22000000 | F27: 0 | G27: =+F27/E27 -> 0 | P27: =+D27+H27+L27 -> 22000000 | Q27: =+E27+I27+M27 -> 22000000 | R27: =+F27+J27+N27 -> 0 | S27: =+R27/Q27 -> 0
A28: 21. | C28: Térfigyelő kamerák elhelyezése | D28: 2560000 | E28: 2560000 | F28: 0 | G28: =+F28/E28 -> 0 | P28: =+D28+H28+L28 -> 2560000 | Q28: =+E28+I28+M28 -> 2560000 | R28: =+F28+J28+N28 -> 0 | S28: =+R28/Q28 -> 0
A29: 22. | C29: Mobiltelefon - bölcsőde TÜ | P29: =+D29+H29+L29 -> 0 | Q29: =+E29+I29+M29 -> 0 | R29: =+F29+J29+N29 -> 0
A30: 23. | C30: Árnyékolók beszerzése - bölcsőde épület TÜ | L30: 1500000 | M30: 1500000 | N30: 0 | O30: =+N30/M30 -> 0 | P30: =+D30+H30+L30 -> 1500000 | Q30: =+E30+I30+M30 -> 1500000 | R30: =+F30+J30+N30 -> 0 | S30: =+R30/Q30 -> 0
A31: 24. | C31: Egyéb eszközbeszerzés | D31: 0 | E31: 40990 | F31: 40990 | G31: =+F31/E31 -> 1 | H31: 270000 | I31: =+H31+418910-83661 -> 605249 | J31: 597469 | K31: =+J31/I31 -> 0.98714579 | P31: =+D31+H31+L31 -> 270000 | Q31: =+E31+I31+M31 -> 646239 | R31: =+F31+J31+N31 -> 638459 | S31: =+R31/Q31 -> 0.98796111
A32: 25. | P32: =+D32+H32+L32 -> 0 | R32: =+F32+J32+N32 -> 0
A33: 26. | P33: =+D33+H33+L33 -> 0 | Q33: =+E33+I33+M33 -> 0 | R33: =+F33+J33+N33 -> 0
A34: 27. | B34: Egyéb tárgyi eszközök beszerzése, létesítése összesen | D34: =SUM(D27:D33) -> 24560000 | E34: =SUM(E27:E33) -> 24600990 | F34: =SUM(F27:F33) -> 40990 | G34: =+F34/E34 -> 0.0016661931 | H34: =SUM(H27:H33) -> 270000 | I34: =SUM(I27:I33) -> 605249 | J34: =SUM(J27:J33) -> 597469 | K34: =+J34/I34 -> 0.98714579 | L34: =SUM(L27:L33) -> 1500000 | M34: =SUM(M27:M33) -> 1500000 | N34: =SUM(N27:N33) -> 0 | O34: =+N34/M34 -> 0 | P34: =SUM(P27:P33) -> 26330000 | Q34: =SUM(Q27:Q33) -> 26706239 | R34: =SUM(R27:R33) -> 638459 | S34: =+R34/Q34 -> 0.023906736
A35: 28. | B35: BERUHÁZÁSOK ÖSSZESEN | D35: =+D10+D21+D25+D34 -> 508538599 | E35: =+E10+E21+E25+E34 -> 508711608 | F35: =+F10+F21+F25+F34 -> 28519405 | G35: =+F35/E35 -> 0.056062029 | H35: =+H10+H21+H25+H34 -> 524000 | I35: =+I10+I21+I25+I34 -> 942910 | J35: =+J10+J21+J25+J34 -> 681130 | K35: =+J35/I35 -> 0.72237011 | L35: =+L10+L21+L25+L34 -> 2000000 | M35: =+M10+M21+M25+M34 -> 2000000 | N35: =+N10+N21+N25+N34 -> 227800 | O35: =+N35/M35 -> 0.1139 | P35: =+P10+P21+P25+P34 -> 511062599 | Q35: =+Q10+Q21+Q25+Q34 -> 511654518 | R35: =+R10+R21+R25+R34 -> 29428335 | S35: =+R35/Q35 -> 0.057516027

Sheet 5. melléklet
A1: TOKOD NAGYKÖZSÉG ÖNKORMÁNYZATA 2026. ÉVI KÖLTSÉGVETÉSÉNEK I. FÉLÉVI TELJESÍTÉSE
A2: FELHALMOZÁSI KÖLTSÉGVETÉS KIADÁSAI / FELÚJÍTÁSOK (forint bruttó értékben)
A4: Sorszám | C4: A. | D4: B. | E4: C. | H4: D. | I4: E. | L4: F. | M4: G. | P4: H. | Q4: I.
B5: Megnevezés | D5: Tokod Nagyközség Önkormányzata | H5: Tokodi Polgármesteri Hivatal | L5: Tokodi Mesevár Óvoda- Bölcsőde és Mini-bölcsőde | P5: Az Önkormányzat és intézményei összesen
D6: Eredeti | E6: Módosított | F6: Teljesítés | H6: Eredeti | I6: Módosított | J6: Teljesítés | L6: Eredeti | M6: Módosított | N6: Teljesítés | P6: Eredeti | Q6: Módosított | R6: Teljesítés
D7: Előirányzat | H7: Előirányzat | L7: Előirányzat | P7: Előirányzat
A8: 1. | B8: Ingatlanok felújítása
A9: 2. | C9: Szociális közösségi épület fejlesztése | D9: 182000000 | E9: 182000000 | F9: 0 | G9: =+F9/E9 -> 0 | P9: =+D9+H9+L9 -> 182000000 | Q9: =+E9+I9+M9 -> 182000000 | R9: =+F9+J9+N9 -> 0 | S9: =+R9/Q9 -> 0
A10: 3. | C10: MOL-Új Európa Alapítvány virágosítási pályázat | D10: 0 | E10: 4391442 | F10: 3391444 | G10: =+F10/E10 -> 0.77228482 | P10: =+D10+H10+L10 -> 0 | Q10: =+E10+I10+M10 -> 4391442 | R10: =+F10+J10+N10 -> 3391444 | S10: =+R10/Q10 -> 0.77228482
A11: 31. | B11: FELÚJÍTÁSOK ÖSSZESEN | D11: =SUM(D9:D10) -> 182000000 | E11: =SUM(E9:E10) -> 186391442 | F11: =SUM(F9:F10) -> 3391444 | G11: =+F11/E11 -> 0.018195277 | H11: =SUM(H9:H9) -> 0 | I11: =SUM(I9:I9) -> 0 | L11: =SUM(L9:L9) -> 0 | M11: =SUM(M9:M9) -> 0 | P11: =SUM(P9:P9) -> 182000000 | Q11: =SUM(Q9:Q9) -> 182000000 | R11: =SUM(R9:R10) -> 3391444 | S11: =+R11/Q11 -> 0.018634308
