Workbook

Sheet 1. melléklet
A1: TOKOD NAGYKÖZSÉG ÖNKORMÁNYZATA 2026. ÉVI KÖLTSÉGVETÉSÉNEK I. FÉLÉVI TELJESÍTÉSE
A2: KÖLTSÉGVETÉSI ÉS FINANSZÍROZÁSI BEVÉTELEK ROVATREND SZERINTI BONTÁSBAN
A3: AZ ÖNKORMÁNYZAT ÉS INTÉZMÉNYEI VONATKOZÁSÁBAN (adatok forintban)
A5: KÖLTSÉGVETÉSI BEVÉTELEK
A6: Sorszám | B6: A. | C6: B. | D6: C. | E6: D. | F6: E. | G6: F. | H6: G. | I6: H. | J6: I. | K6: J. | L6: K. | M6: L. | N6: M. | O6: N. | P6: O. | Q6: P. | R6: Q. | S6: R.
B7: Megnevezés | C7: Rovat száma | D7: Tokod Nagyközség Önkormányzata | H7: Tokodi Polgármesteri Hivatal | L7: Tokodi Mesevár Óvoda- Mini Bölcsőde és Bölcsőde | P7: Az Önkormányzat és intézményei összesen
D8: Eredeti | E8: Módosított | F8: Teljesítés | H8: Eredeti | I8: Módosított | J8: Teljesítés | L8: Eredeti | M8: Módosított | N8: Teljesítés | P8: Eredeti | Q8: Módosított | R8: Teljesítés
D9: Előirányzat | H9: Előirányzat | L9: Előirányzat | P9: Előirányzat
A10: 1. | B10: Helyi önkormányzatok működésének általános támogatása | C10: B111 | D10: 159194710 | E10: 167864323 | F10: 90212346 | G10: =+F10/E10 -> 0.53741226 | H10: 0 | I10: 0 | J10: 0 | L10: 0 | M10: 0 | N10: 0 | P10: =+D10+H10+L10 -> 159194710 | Q10: =+E10+I10+M10 -> 167864323 | R10: =+F10+J10+N10 -> 90212346 | S10: =+R10/Q10 -> 0.53741226
A11: 2. | B11: Települési önkormányzatok egyes köznevelési feladatainak támogatása | C11: B112 | D11: 219532742 | E11: 222056342 | F11: 116257864 | G11: =+F11/E11 -> 0.5235512 | H11: 0 | I11: 0 | J11: 0 | L11: 0 | M11: 0 | N11: 0 | P11: =+D11+H11+L11 -> 219532742 | Q11: =+E11+I11+M11 -> 222056342 | R11: =+F11+J11+N11 -> 116257864 | S11: =+R11/Q11 -> 0.5235512
A12: 3. | B12: Települési önkormányzatok szociális gyermekjóléti és gyermekétkeztetési feladatainak támogatása | C12: B1131 | D12: 97351200 | E12: 97591200 | F12: 52152034 | G12: =+F12/E12 -> 0.53439279 | H12: 0 | I12: 0 | J12: 0 | L12: 0 | M12: 0 | N12: 0 | P12: =+D12+H12+L12 -> 97351200 | Q12: =+E12+I12+M12 -> 97591200 | R12: =+F12+J12+N12 -> 52152034 | S12: =+R12/Q12 -> 0.53439279
A13: 4. | B13: Települési önkormányzatok gyermekétkeztetési feladatainak támogatása | C13: B1132 | D13: 52725893 | E13: 52725893 | F13: 27417462 | G13: =+F13/E13 -> 0.51999996 | H13: 0 | I13: 0 | J13: 0 | L13: 0 | M13: 0 | N13: 0 | P13: =+D13+H13+L13 -> 52725893 | Q13: =+E13+I13+M13 -> 52725893 | R13: =+F13+J13+N13 -> 27417462 | S13: =+R13/Q13 -> 0.51999996
A14: 5. | B14: Települési önkormányzatok kulturális feladatainak támogatása | C14: B114 | D14: 9648680 | E14: 13452500 | F14: 6995300 | G14: =+F14/E14 -> 0.52 | H14: 0 | I14: 0 | J14: 0 | L14: 0 | M14: 0 | N14: 0 | P14: =+D14+H14+L14 -> 9648680 | Q14: =+E14+I14+M14 -> 13452500 | R14: =+F14+J14+N14 -> 6995300 | S14: =+R14/Q14 -> 0.52
A15: 6. | B15: Működési célú költségvetési támogatások és kiegészítő támogatások | C15: B115 | D15: 1000000 | E15: 1000000 | F15: 1144509 | G15: =+F15/E15 -> 1.144509 | H15: 0 | I15: 0 | J15: 0 | L15: 0 | M15: 0 | N15: 0 | P15: =+D15+H15+L15 -> 1000000 | Q15: =+E15+I15+M15 -> 1000000 | R15: =+F15+J15+N15 -> 1144509 | S15: =+R15/Q15 -> 1.144509
A16: 7. | B16: Elszámolásból származó bevételek | C16: B116 | D16: 0 | E16: 0 | F16: 0 | H16: 0 | I16: 0 | J16: 0 | L16: 0 | M16: 0 | N16: 0 | P16: =+D16+H16+L16 -> 0 | Q16: =+E16+I16+M16 -> 0 | R16: =+F16+J16+N16 -> 0
A17: 8. | B17: Önkormányzatok működési támogatásai (=01+…+07) | C17: B11 | D17: =SUM(D10:D16) -> 539453225 | E17: =SUM(E10:E16) -> 554690258 | F17: =SUM(F10:F16) -> 294179515 | G17: =+F17/E17 -> 0.53034916 | H17: =SUM(H10:H16) -> 0 | I17: =SUM(I10:I16) -> 0 | J17: =SUM(J10:J16) -> 0 | L17: =SUM(L10:L16) -> 0 | M17: =SUM(M10:M16) -> 0 | N17: =SUM(N10:N16) -> 0 | P17: =SUM(P10:P16) -> 539453225 | Q17: =SUM(Q10:Q16) -> 554690258 | R17: =SUM(R10:R16) -> 294179515 | S17: =+R17/Q17 -> 0.53034916
A18: 9. | B18: Elvonások és befizetések bevételei | C18: B12 | D18: 0 | E18: 19044138 | F18: 19044138 | G18: =+F18/E18 -> 1 | H18: 0 | I18: 0 | J18: 0 | L18: 0 | M18: 0 | N18: 0 | P18: =+D18+H18+L18 -> 0 | Q18: =+E18+I18+M18 -> 19044138 | R18: =+F18+J18+N18 -> 19044138 | S18: =+R18/Q18 -> 1
A19: 10. | B19: Működési célú garancia- és kezességvállalásból származó megtérülések államháztartáson belülről | C19: B13 | D19: 0 | E19: 0 | F19: 0 | H19: 0 | I19: 0 | J19: 0 | L19: 0 | M19: 0 | N19: 0 | P19: =+D19+H19+L19 -> 0 | Q19: =+E19+I19+M19 -> 0 | R19: =+F19+J19+N19 -> 0
A20: 11. | B20: Működési célú visszatérítendő támogatások, kölcsönök visszatérülése államháztartáson belülről | C20: B14 | D20: 0 | E20: 0 | F20: 0 | H20: 0 | I20: 0 | J20: 0 | L20: 0 | M20: 0 | N20: 0 | P20: =+D20+H20+L20 -> 0 | Q20: =+E20+I20+M20 -> 0 | R20: =+F20+J20+N20 -> 0
A21: 12. | B21: Működési célú visszatérítendő támogatások, kölcsönök igénybevétele államháztartáson belülről | C21: B15 | D21: 0 | E21: 0 | F21: 0 | H21: 0 | I21: 0 | J21: 0 | L21: 0 | M21: 0 | N21: 0 | P21: =+D21+H21+L21 -> 0 | Q21: =+E21+I21+M21 -> 0 | R21: =+F21+J21+N21 -> 0
A22: 13. | B22: Egyéb működési célú támogatások bevételei államháztartáson belülről | C22: B16 | D22: =19680000+1499995+6964285+627948+19777299 -> 48549527 | E22: 48549527 | F22: 37707632 | G22: =+F22/E22 -> 0.77668382 | H22: 0 | I22: 4853708 | J22: 4349924 | K22: =+J22/I22 -> 0.89620636 | L22: 0 | M22: 0 | N22: 0 | P22: =+D22+H22+L22 -> 48549527 | Q22: =+E22+I22+M22 -> 53403235 | R22: =+F22+J22+N22 -> 42057556 | S22: =+R22/Q22 -> 0.78754697
A23: 14. | B23: Működési célú támogatások államháztartáson belülről (=09+…+13) | C23: B12-B16 | D23: =SUM(D18:D22) -> 48549527 | E23: =SUM(E18:E22) -> 67593665 | F23: =SUM(F18:F22) -> 56751770 | G23: =+F23/E23 -> 0.83960191 | H23: =SUM(H18:H22) -> 0 | I23: =SUM(I18:I22) -> 4853708 | J23: =SUM(J18:J22) -> 4349924 | K23: =+J23/I23 -> 0.89620636 | L23: =SUM(L18:L22) -> 0 | M23: =SUM(M18:M22) -> 0 | N23: =SUM(N18:N22) -> 0 | P23: =SUM(P18:P22) -> 48549527 | Q23: =SUM(Q18:Q22) -> 72447373 | R23: =SUM(R18:R22) -> 61101694 | S23: =+R23/Q23 -> 0.8433942
A24: 15. | B24: Felhalmozási célú önkormányzati támogatások | C24: B21 | D24: 0 | E24: 0 | F24: 0 | H24: 0 | I24: 0 | J24: 0 | L24: 0 | M24: 0 | N24: 0 | P24: =+D24+H24+L24 -> 0 | Q24: =+E24+I24+M24 -> 0 | R24: =+F24+J24+N24 -> 0
A25: 16. | B25: Felhalmozási célú garancia- és kezességvállalásból származó megtérülések államháztartáson belülről | C25: B22 | D25: 0 | E25: 0 | F25: 0 | H25: 0 | I25: 0 | J25: 0 | L25: 0 | M25: 0 | N25: 0 | P25: =+D25+H25+L25 -> 0 | Q25: =+E25+I25+M25 -> 0 | R25: =+F25+J25+N25 -> 0
A26: 17. | B26: Felhalmozási célú visszatérítendő támogatások, kölcsönök visszatérülése államháztartáson belülről | C26: B23 | D26: 0 | E26: 0 | F26: 0 | H26: 0 | I26: 0 | J26: 0 | L26: 0 | M26: 0 | N26: 0 | P26: =+D26+H26+L26 -> 0 | Q26: =+E26+I26+M26 -> 0 | R26: =+F26+J26+N26 -> 0
A27: 18. | B27: Felhalmozási célú visszatérítendő támogatások, kölcsönök igénybevétele államháztartáson belülről | C27: B24 | D27: 0 | E27: 0 | F27: 0 | H27: 0 | I27: 0 | J27: 0 | L27: 0 | M27: 0 | N27: 0 | P27: =+D27+H27+L27 -> 0 | Q27: =+E27+I27+M27 -> 0 | R27: =+F27+J27+N27 -> 0
A28: 19. | B28: Egyéb felhalmozási célú támogatások bevételei államháztartáson belülről | C28: B25 | D28: 520045733 | E28: 513995733 | F28: 22998834 | G28: =+F28/E28 -> 0.044745185 | H28: 0 | I28: 0 | J28: 0 | L28: 0 | M28: 0 | N28: 0 | P28: =+D28+H28+L28 -> 520045733 | Q28: =+E28+I28+M28 -> 513995733 | R28: =+F28+J28+N28 -> 22998834 | S28: =+R28/Q28 -> 0.044745185
A29: 20. | B29: Felhalmozási célú támogatások államháztartáson belülről (=15+…+19) | C29: B2 | D29: =SUM(D24:D28) -> 520045733 | E29: =SUM(E24:E28) -> 513995733 | F29: =SUM(F24:F28) -> 22998834 | G29: =+F29/E29 -> 0.044745185 | H29: =SUM(H24:H28) -> 0 | I29: =SUM(I24:I28) -> 0 | J29: =SUM(J24:J28) -> 0 | L29: =SUM(L24:L28) -> 0 | M29: =SUM(M24:M28) -> 0 | N29: =SUM(N24:N28) -> 0 | P29: =SUM(P24:P28) -> 520045733 | Q29: =SUM(Q24:Q28) -> 513995733 | R29: =SUM(R24:R28) -> 22998834 | S29: =+R29/Q29 -> 0.044745185
A30: 21. | B30: Vagyoni tipusú adók | C30: B34 | D30: 15000000 | E30: 15000000 | F30: 5121686 | G30: =+F30/E30 -> 0.34144573 | H30: 0 | I30: 0 | J30: 0 | L30: 0 | M30: 0 | N30: 0 | P30: =+D30+H30+L30 -> 15000000 | Q30: =+E30+I30+M30 -> 15000000 | R30: =+F30+J30+N30 -> 5121686 | S30: =+R30/Q30 -> 0.34144573
A31: 22. | B31: Értékesítési és forgalmi adók | C31: B351 | D31: 172000000 | E31: 172000000 | F31: 86534910 | G31: =+F31/E31 -> 0.50310994 | H31: 0 | I31: 0 | J31: 0 | L31: 0 | M31: 0 | N31: 0 | P31: =+D31+H31+L31 -> 172000000 | Q31: =+E31+I31+M31 -> 172000000 | R31: =+F31+J31+N31 -> 86534910 | S31: =+R31/Q31 -> 0.50310994
A32: 23. | B32: Egyéb közhatalmi bevételek | C32: B36 | D32: 1500000 | E32: 1500000 | F32: 2527067 | G32: =+F32/E32 -> 1.6847113 | H32: 0 | I32: 0 | J32: 0 | L32: 0 | M32: 0 | N32: 0 | P32: =+D32+H32+L32 -> 1500000 | Q32: =+E32+I32+M32 -> 1500000 | R32: =+F32+J32+N32 -> 2527067 | S32: =+R32/Q32 -> 1.6847113
A33: 24. | B33: Közhatalmi bevételek (=21+...+23) | C33: B3 | D33: =SUM(D30:D32) -> 188500000 | E33: =SUM(E30:E32) -> 188500000 | F33: =SUM(F30:F32) -> 94183663 | G33: =+F33/E33 -> 0.49964808 | H33: =SUM(H30:H32) -> 0 | I33: =SUM(I30:I32) -> 0 | J33: =SUM(J30:J32) -> 0 | L33: =SUM(L30:L32) -> 0 | M33: =SUM(M30:M32) -> 0 | N33: =SUM(N30:N32) -> 0 | P33: =SUM(P30:P32) -> 188500000 | Q33: =SUM(Q30:Q32) -> 188500000 | R33: =SUM(R30:R32) -> 94183663 | S33: =+R33/Q33 -> 0.49964808
A34: 25. | B34: Készletértékesítés ellenértéke | C34: B401 | D34: 0 | E34: 0 | F34: 0 | H34: 0 | I34: 0 | J34: 0 | L34: 0 | M34: 0 | N34: 0 | P34: =+D34+H34+L34 -> 0 | Q34: =+E34+I34+M34 -> 0 | R34: =+F34+J34+N34 -> 0
A35: 26. | B35: Szolgáltatások ellenértéke | C35: B402 | D35: 20000000 | E35: 20000000 | F35: 12274072 | G35: =+F35/E35 -> 0.6137036 | H35: 0 | I35: 0 | J35: 0 | L35: 0 | M35: 0 | N35: 0 | P35: =+D35+H35+L35 -> 20000000 | Q35: =+E35+I35+M35 -> 20000000 | R35: =+F35+J35+N35 -> 12274072 | S35: =+R35/Q35 -> 0.6137036
A36: 27. | B36: Közvetített szolgáltatások ellenértéke | C36: B403 | D36: 4000000 | E36: 7000000 | F36: 3807655 | G36: =+F36/E36 -> 0.54395071 | H36: 0 | I36: 0 | J36: 0 | L36: 0 | M36: 0 | N36: 0 | P36: =+D36+H36+L36 -> 4000000 | Q36: =+E36+I36+M36 -> 7000000 | R36: =+F36+J36+N36 -> 3807655 | S36: =+R36/Q36 -> 0.54395071
A37: 28. | B37: Tulajdonosi bevételek | C37: B404 | D37: 0 | E37: 0 | F37: 0 | H37: 0 | I37: 0 | J37: 0 | L37: 0 | M37: 0 | N37: 0 | P37: =+D37+H37+L37 -> 0 | Q37: =+E37+I37+M37 -> 0 | R37: =+F37+J37+N37 -> 0
A38: 29. | B38: Ellátási díjak | C38: B405 | D38: 4898338 | E38: 4898338 | F38: 2663467 | G38: =+F38/E38 -> 0.54374912 | H38: 0 | I38: 0 | J38: 0 | L38: 2923794 | M38: 2923794 | N38: 2090060 | O38: =+N38/M38 -> 0.71484516 | P38: =+D38+H38+L38 -> 7822132 | Q38: =+E38+I38+M38 -> 7822132 | R38: =+F38+J38+N38 -> 4753527 | S38: =+R38/Q38 -> 0.60770222
A39: 30. | B39: Kiszámlázott általános forgalmi adó | C39: B406 | D39: =1322551+1000000 -> 2322551 | E39: =1322551+1000000 -> 2322551 | F39: 1903370 | G39: =+F39/E39 -> 0.81951699 | H39: 0 | I39: 0 | J39: 0 | L39: 0 | M39: 0 | N39: 0 | P39: =+D39+H39+L39 -> 2322551 | Q39: =+E39+I39+M39 -> 2322551 | R39: =+F39+J39+N39 -> 1903370 | S39: =+R39/Q39 -> 0.81951699
A40: 31. | B40: Általános forgalmi adó visszatérítése | C40: B407 | D40: 0 | E40: 0 | F40: 0 | H40: 0 | I40: 0 | J40: 0 | L40: 0 | M40: 0 | N40: 0 | P40: =+D40+H40+L40 -> 0 | Q40: =+E40+I40+M40 -> 0 | R40: =+F40+J40+N40 -> 0
A41: 32. | B41: Befektetett pénzügyi eszközökből származó bevételek | C41: B4081 | D41: 0 | E41: 0 | F41: 0 | H41: 0 | I41: 0 | J41: 0 | L41: 0 | M41: 0 | N41: 0 | P41: =+D41+H41+L41 -> 0 | Q41: =+E41+I41+M41 -> 0 | R41: =+F41+J41+N41 -> 0
...

Sheet 2. melléklet
A1: TOKOD NAGYKÖZSÉG ÖNKORMÁNYZATA 2026. ÉVI KÖLTSÉGVETÉSÉNEK I. FÉLÉVI TELJESÍTÉSE
A2: KÖLTSÉGVETÉSI ÉS FINANSZÍROZÁSI KIADÁSOK ROVATREND SZERINTI BONTÁSBAN
A3: AZ ÖNKORMÁNYZAT ÉS INTÉZMÉNYEI VONATKOZÁSÁBAN (adatok forintban)
A5: KÖLTSÉGVETÉSI KIADÁSOK
A6: Sorszám | B6: A. | C6: B. | D6: C. | E6: D. | F6: E. | G6: F. | H6: G. | I6: H. | J6: I. | K6: J. | L6: K. | M6: L. | N6: M. | O6: N. | P6: O. | Q6: P. | R6: Q. | S6: R.
B7: Megnevezés | C7: Rovat száma | D7: Tokod Nagyközség Önkormányzata | H7: Tokodi Polgármesteri Hivatal | L7: Tokodi Mesevár Óvoda- Mini Bölcsőde és Bölcsőde | P7: Az Önkormányzat és intézményei összesen
D8: Eredeti | E8: Módosított | F8: Teljesítés | H8: Eredeti | I8: Módosított | J8: Teljesítés | L8: Eredeti | M8: Módosított | N8: Teljesítés | P8: Eredeti | Q8: Módosított | R8: Teljesítés
D9: Előirányzat | H9: Előirányzat | L9: Előirányzat | P9: Előirányzat
A10: 1. | B10: Törvény szerinti illetmények, munkabérek | C10: K1101 | D10: 90000000 | E10: 90000000 | F10: 43719483 | G10: =+F10/E10 -> 0.48577203 | H10: =114026000+1000000-3 -> 115025997 | I10: =114026000+1000000-3 -> 115025997 | J10: 54153218 | K10: =+J10/I10 -> 0.47079112 | L10: =265000000-940000 -> 264060000 | M10: =265000000-940000 -> 264060000 | N10: 120307370 | O10: =+N10/M10 -> 0.45560619 | P10: =+D10+H10+L10 -> 469085997 | Q10: =+E10+I10+M10 -> 469085997 | R10: =+F10+J10+N10 -> 218180071 | S10: =+R10/Q10 -> 0.46511742
A11: 2. | B11: Normatív jutalmak | C11: K1102 | D11: 0 | E11: 0 | F11: 0 | H11: 0 | I11: 1701279 | J11: 1701279 | K11: =+J11/I11 -> 1 | L11: 0 | M11: 0 | N11: 0 | P11: =+D11+H11+L11 -> 0 | Q11: =+E11+I11+M11 -> 1701279 | R11: =+F11+J11+N11 -> 1701279 | S11: =+R11/Q11 -> 1
A12: 3. | B12: Céljuttatás, projektprémium | C12: K1103 | D12: 9000000 | E12: 9000000 | F12: 2071106 | G12: =+F12/E12 -> 0.23012289 | H12: 9600000 | I12: 9600000 | J12: 3388440 | K12: =+J12/I12 -> 0.3529625 | L12: 11428000 | M12: 11428000 | N12: 3563680 | O12: =+N12/M12 -> 0.31183759 | P12: =+D12+H12+L12 -> 30028000 | Q12: =+E12+I12+M12 -> 30028000 | R12: =+F12+J12+N12 -> 9023226 | S12: =+R12/Q12 -> 0.30049374
A13: 4. | B13: Készenléti, ügyeleti, helyettesítési díj, túlóra, túlszolgálat | C13: K1104 | D13: 0 | E13: 0 | F13: 0 | H13: 0 | I13: 0 | J13: 0 | L13: 4000000 | M13: 4000000 | N13: 2216486 | O13: =+N13/M13 -> 0.5541215 | P13: =+D13+H13+L13 -> 4000000 | Q13: =+E13+I13+M13 -> 4000000 | R13: =+F13+J13+N13 -> 2216486 | S13: =+R13/Q13 -> 0.5541215
A14: 5. | B14: Végkielégítés | C14: K1105 | D14: 0 | E14: 0 | F14: 0 | H14: 0 | I14: 0 | J14: 0 | L14: 0 | M14: 0 | N14: 0 | P14: =+D14+H14+L14 -> 0 | Q14: =+E14+I14+M14 -> 0 | R14: =+F14+J14+N14 -> 0
A15: 6. | B15: Jubileumi jutalom | C15: K1106 | D15: 0 | E15: 0 | F15: 0 | H15: 0 | I15: 0 | J15: 0 | L15: 1840000 | M15: 1840000 | N15: 850160 | O15: =+N15/M15 -> 0.46204348 | P15: =+D15+H15+L15 -> 1840000 | Q15: =+E15+I15+M15 -> 1840000 | R15: =+F15+J15+N15 -> 850160 | S15: =+R15/Q15 -> 0.46204348
A16: 7. | B16: Béren kívüli juttatások | C16: K1107 | D16: =3500000+2500000 -> 6000000 | E16: =3500000+2500000 -> 6000000 | F16: 3916000 | G16: =+F16/E16 -> 0.65266667 | H16: =5520000+2000000 -> 7520000 | I16: =5520000+2000000 -> 7520000 | J16: 6400000 | K16: =+J16/I16 -> 0.85106383 | L16: =8190000+9951015 -> 18141015 | M16: =8190000+9951015 -> 18141015 | N16: 11487015 | O16: =+N16/M16 -> 0.63320685 | P16: =+D16+H16+L16 -> 31661015 | Q16: =+E16+I16+M16 -> 31661015 | R16: =+F16+J16+N16 -> 21803015 | S16: =+R16/Q16 -> 0.68863917
A17: 8. | B17: Ruházati költségtérítés | C17: K1108 | D17: 0 | E17: 0 | F17: 0 | H17: 60000 | I17: 60000 | J17: 0 | K17: =+J17/I17 -> 0 | L17: 0 | M17: 0 | N17: 0 | P17: =+D17+H17+L17 -> 60000 | Q17: =+E17+I17+M17 -> 60000 | R17: =+F17+J17+N17 -> 0
A18: 9. | B18: Közlekedési költségtérítés | C18: K1109 | D18: 700000 | E18: 700000 | F18: 290460 | G18: =+F18/E18 -> 0.41494286 | H18: 600000 | I18: 600000 | J18: 265620 | K18: =+J18/I18 -> 0.4427 | L18: 1300000 | M18: 1300000 | N18: 584280 | O18: =+N18/M18 -> 0.44944615 | P18: =+D18+H18+L18 -> 2600000 | Q18: =+E18+I18+M18 -> 2600000 | R18: =+F18+J18+N18 -> 1140360 | S18: =+R18/Q18 -> 0.4386
A19: 10. | B19: Egyéb költségtérítések | C19: K1110 | D19: 0 | E19: 0 | F19: 0 | H19: 72000 | I19: 72000 | J19: 0 | K19: =+J19/I19 -> 0 | L19: 0 | M19: 0 | N19: 0 | P19: =+D19+H19+L19 -> 72000 | Q19: =+E19+I19+M19 -> 72000 | R19: =+F19+J19+N19 -> 0 | S19: =+R19/Q19 -> 0
A20: 11. | B20: Lakhatási támogatások | C20: K1111 | D20: 0 | E20: 0 | F20: 0 | H20: 0 | I20: 0 | J20: 0 | L20: 0 | M20: 0 | N20: 0 | P20: =+D20+H20+L20 -> 0 | Q20: =+E20+I20+M20 -> 0 | R20: =+F20+J20+N20 -> 0
A21: 12. | B21: Szociális támogatások | C21: K1112 | D21: 0 | E21: 0 | F21: 0 | H21: 0 | I21: 0 | J21: 0 | L21: 0 | M21: 0 | N21: 0 | P21: =+D21+H21+L21 -> 0 | Q21: =+E21+I21+M21 -> 0 | R21: =+F21+J21+N21 -> 0
A22: 13. | B22: Foglalkoztatottak egyéb személyi juttatásai | C22: K1113 | D22: 2500000 | E22: 2500000 | F22: 478514 | G22: =+F22/E22 -> 0.1914056 | H22: 1000000 | I22: 1000000 | J22: 703777 | K22: =+J22/I22 -> 0.703777 | L22: 3500000 | M22: 5786000 | N22: 4365624 | O22: =+N22/M22 -> 0.75451504 | P22: =+D22+H22+L22 -> 7000000 | Q22: =+E22+I22+M22 -> 9286000 | R22: =+F22+J22+N22 -> 5547915 | S22: =+R22/Q22 -> 0.59744939
A23: 14. | B23: Foglalkoztatottak személyi juttatásai (=01+…+13) | C23: K11 | D23: =SUM(D10:D22) -> 108200000 | E23: =SUM(E10:E22) -> 108200000 | F23: =SUM(F10:F22) -> 50475563 | G23: =+F23/E23 -> 0.46650243 | H23: =SUM(H10:H22) -> 133877997 | I23: =SUM(I10:I22) -> 135579276 | J23: =SUM(J10:J22) -> 66612334 | K23: =+J23/I23 -> 0.49131649 | L23: =SUM(L10:L22) -> 304269015 | M23: =SUM(M10:M22) -> 306555015 | N23: =SUM(N10:N22) -> 143374615 | O23: =+N23/M23 -> 0.4676962 | P23: =SUM(P10:P22) -> 546347012 | Q23: =SUM(Q10:Q22) -> 550334291 | R23: =SUM(R10:R22) -> 260462512 | S23: =+R23/Q23 -> 0.47328054
A24: 15. | B24: Választott tisztségviselők juttatásai | C24: K121 | D24: =35200000+1000000 -> 36200000 | E24: =35200000+1000000 -> 36200000 | F24: 17887354 | G24: =+F24/E24 -> 0.4941258 | H24: 0 | I24: 0 | J24: 0 | L24: 0 | M24: 0 | N24: 0 | P24: =+D24+H24+L24 -> 36200000 | Q24: =+E24+I24+M24 -> 36200000 | R24: =+F24+J24+N24 -> 17887354 | S24: =+R24/Q24 -> 0.4941258
A25: 16. | B25: Munkavégzésre irányuló egyéb jogviszonyban nem saját foglalkoztatottnak fizetett juttatások | C25: K122 | D25: 11000000 | E25: 11000000 | F25: 6006201 | G25: =+F25/E25 -> 0.54601827 | H25: 300000 | I25: 300000 | J25: 150750 | K25: =+J25/I25 -> 0.5025 | L25: 4600000 | M25: 4600000 | N25: 2223702 | O25: =+N25/M25 -> 0.48341348 | P25: =+D25+H25+L25 -> 15900000 | Q25: =+E25+I25+M25 -> 15900000 | R25: =+F25+J25+N25 -> 8380653 | S25: =+R25/Q25 -> 0.52708509
A26: 17. | B26: Egyéb külső személyi juttatások | C26: K123 | D26: 7000000 | E26: 7000000 | F26: 928260 | G26: =+F26/E26 -> 0.13260857 | H26: 300000 | I26: 2152425 | J26: 2114375 | K26: =+J26/I26 -> 0.98232226 | L26: 900000 | M26: 900000 | N26: 45000 | O26: =+N26/M26 -> 0.05 | P26: =+D26+H26+L26 -> 8200000 | Q26: =+E26+I26+M26 -> 10052425 | R26: =+F26+J26+N26 -> 3087635 | S26: =+R26/Q26 -> 0.30715325
A27: 18. | B27: Külső személyi juttatások (=15+16+17) | C27: K12 | D27: =SUM(D24:D26) -> 54200000 | E27: =SUM(E24:E26) -> 54200000 | F27: =SUM(F24:F26) -> 24821815 | G27: =+F27/E27 -> 0.45796707 | H27: =SUM(H24:H26) -> 600000 | I27: =SUM(I24:I26) -> 2452425 | J27: =SUM(J24:J26) -> 2265125 | K27: =+J27/I27 -> 0.92362661 | L27: =SUM(L24:L26) -> 5500000 | M27: =SUM(M24:M26) -> 5500000 | N27: =SUM(N24:N26) -> 2268702 | O27: =+N27/M27 -> 0.41249127 | P27: =SUM(P24:P26) -> 60300000 | Q27: =SUM(Q24:Q26) -> 62152425 | R27: =SUM(R24:R26) -> 29355642 | S27: =+R27/Q27 -> 0.47231692
A28: 19. | B28: Személyi juttatások (=14+18) | C28: K1 | D28: =+D23+D27 -> 162400000 | E28: =+E23+E27 -> 162400000 | F28: =+F23+F27 -> 75297378 | G28: =+F28/E28 -> 0.46365381 | H28: =+H23+H27 -> 134477997 | I28: =+I23+I27 -> 138031701 | J28: =+J23+J27 -> 68877459 | K28: =+J28/I28 -> 0.49899739 | L28: =+L23+L27 -> 309769015 | M28: =+M23+M27 -> 312055015 | N28: =+N23+N27 -> 145643317 | O28: =+N28/M28 -> 0.46672321 | P28: =+P23+P27 -> 606647012 | Q28: =+Q23+Q27 -> 612486716 | R28: =+R23+R27 -> 289818154 | S28: =+R28/Q28 -> 0.47318276
A29: 20. | B29: Munkaadókat terhelő járulékok és szociális hozzájárulási adó | C29: K2 | D29: =21965000+980000 -> 22945000 | E29: =21965000+980000 -> 22945000 | F29: 10936896 | G29: =+F29/E29 -> 0.47665705 | H29: =17140000+560000 -> 17700000 | I29: 18245118 | J29: 11659237 | K29: =+J29/I29 -> 0.63903325 | L29: =34667000+2786284 -> 37453284 | M29: 37690884 | N29: 20642681 | O29: =+N29/M29 -> 0.54768365 | P29: =+D29+H29+L29 -> 78098284 | Q29: =+E29+I29+M29 -> 78881002 | R29: =+F29+J29+N29 -> 43238814 | S29: =+R29/Q29 -> 0.54815244
A30: 21. | B30: Szakmai anyagok beszerzése | C30: K311 | D30: 1300000 | E30: 1300000 | F30: 657597 | G30: =+F30/E30 -> 0.50584385 | H30: 200000 | I30: 200000 | J30: 27833 | K30: =+J30/I30 -> 0.139165 | L30: 50000 | M30: 50000 | N30: 13156 | O30: =+N30/M30 -> 0.26312 | P30: =+D30+H30+L30 -> 1550000 | Q30: =+E30+I30+M30 -> 1550000 | R30: =+F30+J30+N30 -> 698586 | S30: =+R30/Q30 -> 0.45070065
A31: 22. | B31: Üzemeltetési anyagok beszerzése | C31: K312 | D31: 11000000 | E31: 11000000 | F31: 4393587 | G31: =+F31/E31 -> 0.399417 | H31: 700000 | I31: 870219 | J31: 437325 | K31: =+J31/I31 -> 0.50254591 | L31: 2500000 | M31: 2500000 | N31: 821888 | O31: =+N31/M31 -> 0.3287552 | P31: =+D31+H31+L31 -> 14200000 | Q31: =+E31+I31+M31 -> 14370219 | R31: =+F31+J31+N31 -> 5652800 | S31: =+R31/Q31 -> 0.39336909
A32: 23. | B32: Árubeszerzés | C32: K313 | D32: 0 | E32: 0 | F32: 0 | H32: 0 | I32: 0 | J32: 0 | L32: 0 | M32: 0 | N32: 0 | P32: =+D32+H32+L32 -> 0 | Q32: =+E32+I32+M32 -> 0 | R32: =+F32+J32+N32 -> 0
A33: 24. | B33: Készletbeszerzés (=21+22+23) | C33: K31 | D33: =SUM(D30:D32) -> 12300000 | E33: =SUM(E30:E32) -> 12300000 | F33: =SUM(F30:F32) -> 5051184 | G33: =+F33/E33 -> 0.41066537 | H33: =SUM(H30:H32) -> 900000 | I33: =SUM(I30:I32) -> 1070219 | J33: =SUM(J30:J32) -> 465158 | K33: =+J33/I33 -> 0.43463814 | L33: =SUM(L30:L32) -> 2550000 | M33: =SUM(M30:M32) -> 2550000 | N33: =SUM(N30:N32) -> 835044 | O33: =+N33/M33 -> 0.32746824 | P33: =SUM(P30:P32) -> 15750000 | Q33: =SUM(Q30:Q32) -> 15920219 | R33: =SUM(R30:R32) -> 6351386 | S33: =+R33/Q33 -> 0.39895092
A34: 25. | B34: Informatikai szolgáltatások igénybevétele | C34: K321 | D34: 3000000 | E34: 3000000 | F34: 1997675 | G34: =+F34/E34 -> 0.66589167 | H34: 1200000 | I34: 1200000 | J34: 676446 | K34: =+J34/I34 -> 0.563705 | L34: 800000 | M34: 800000 | N34: 372396 | O34: =+N34/M34 -> 0.465495 | P34: =+D34+H34+L34 -> 5000000 | Q34: =+E34+I34+M34 -> 5000000 | R34: =+F34+J34+N34 -> 3046517 | S34: =+R34/Q34 -> 0.6093034
A35: 26. | B35: Egyéb kommunikációs szolgáltatások | C35: K322 | D35: 1200000 | E35: 1200000 | F35: 527552 | G35: =+F35/E35 -> 0.43962667 | H35: 100000 | I35: 100000 | J35: 28570 | K35: =+J35/I35 -> 0.2857 | L35: 250000 | M35: 250000 | N35: 104628 | O35: =+N35/M35 -> 0.418512 | P35: =+D35+H35+L35 -> 1550000 | Q35: =+E35+I35+M35 -> 1550000 | R35: =+F35+J35+N35 -> 660750 | S35: =+R35/Q35 -> 0.42629032
A36: 27. | B36: Kommunikációs szolgáltatások (=25+26) | C36: K32 | D36: =SUM(D34:D35) -> 4200000 | E36: =SUM(E34:E35) -> 4200000 | F36: =SUM(F34:F35) -> 2525227 | G36: =+F36/E36 -> 0.60124452 | H36: =SUM(H34:H35) -> 1300000 | I36: =SUM(I34:I35) -> 1300000 | J36: =SUM(J34:J35) -> 705016 | K36: =+J36/I36 -> 0.54232 | L36: =SUM(L34:L35) -> 1050000 | M36: =SUM(M34:M35) -> 1050000 | N36: =SUM(N34:N35) -> 477024 | O36: =+N36/M36 -> 0.45430857 | P36: =SUM(P34:P35) -> 6550000 | Q36: =SUM(Q34:Q35) -> 6550000 | R36: =SUM(R34:R35) -> 3707267 | S36: =+R36/Q36 -> 0.56599496
A37: 28. | B37: Villamosenergia szolgáltatás díja | C37: K3311 | D37: 21000000 | E37: 21000000 | F37: 12570742 | G37: =+F37/E37 -> 0.59860676 | H37: 100000 | I37: 100000 | J37: 0 | L37: 2500000 | M37: 2500000 | N37: 1041073 | O37: =+N37/M37 -> 0.4164292 | P37: =+D37+H37+L37 -> 23600000 | Q37: =+E37+I37+M37 -> 23600000 | R37: =+F37+J37+N37 -> 13611815 | S37: =+R37/Q37 -> 0.57677182
A38: 29. | B38: Gázenergia szolgáltatás díja | C38: K3312 | D38: 14000000 | E38: 16000000 | F38: 8094881 | G38: =+F38/E38 -> 0.50593006 | H38: 1800000 | I38: 1800000 | J38: 1087002 | K38: =+J38/I38 -> 0.60389 | L38: 1700000 | M38: 1700000 | N38: 848982 | O38: =+N38/M38 -> 0.49940118 | P38: =+D38+H38+L38 -> 17500000 | Q38: =+E38+I38+M38 -> 19500000 | R38: =+F38+J38+N38 -> 10030865 | S38: =+R38/Q38 -> 0.51440333
A39: 30. | B39: Víz- és csatorna szolgáltatások díja | C39: K3314 | D39: 2600000 | E39: 2600000 | F39: 968552 | G39: =+F39/E39 -> 0.37252 | H39: 200000 | I39: 200000 | J39: 89931 | K39: =+J39/I39 -> 0.449655 | L39: 1600000 | M39: 1600000 | N39: 751020 | O39: =+N39/M39 -> 0.4693875 | P39: =+D39+H39+L39 -> 4400000 | Q39: =+E39+I39+M39 -> 4400000 | R39: =+F39+J39+N39 -> 1809503 | S39: =+R39/Q39 -> 0.41125068
A40: 31. | B40: Vásárolt élelmezés | C40: K332 | D40: 17500000 | E40: 17500000 | F40: 10827104 | G40: =+F40/E40 -> 0.61869166 | H40: 0 | I40: 0 | J40: 0 | L40: 31320000 | M40: 31320000 | N40: 18213268 | O40: =+N40/M40 -> 0.58152197 | P40: =+D40+H40+L40 -> 48820000 | Q40: =+E40+I40+M40 -> 48820000 | R40: =+F40+J40+N40 -> 29040372 | S40: =+R40/Q40 -> 0.5948458
A41: 32. | B41: Bérleti és lízing díjak | C41: K333 | D41: 2700000 | E41: 2700000 | F41: 126480 | G41: =+F41/E41 -> 0.046844444 | H41: 300000 | I41: 300000 | J41: 112800 | K41: =+J41/I41 -> 0.376 | L41: 0 | M41: 0 | N41: 0 | P41: =+D41+H41+L41 -> 3000000 | Q41: =+E41+I41+M41 -> 3000000 | R41: =+F41+J41+N41 -> 239280 | S41: =+R41/Q41 -> 0.07976
...

Sheet 3. melléklet
A1: TOKOD NAGYKÖZSÉG ÖNKORMÁNYZATA 2026. ÉVI KÖLTSÉGVETÉSÉNEK I. FÉLÉVI TELJESÍTÉSE
A2: ÖSSZEVONT BEVÉTELEK ÉS KIADÁSOK EGYENLEGE (adatok forintban)
B4: A. | D4: B. | E4: C. | F4: D. | G4: E. | H4: F.
A5: Sorszám | B5: BEVÉTELEK jogcím megnevezése | D5: Tokod Nagyközség Önkormányzata és a hozzá kapcsolódó intézmények
D6: 2025. évi tényadat | E6: 2026. évi eredeti előirányzat | F6: 2026.évi módosított előirányzat I. | G6: 2026. I. félévi tényadat | H6: Teljesítési mutató
A7: 1. | B7: MŰKÖDÉSI CÉLÚ KÖLTSÉGVETÉSI BEVÉTELEK
A8: 2. | B8: B11 | C8: Önkormányzat működési támogatásai | D8: 556967969 | E8: =+'1. melléklet'!P17 -> 539453225 | F8: =+'1. melléklet'!Q17 -> 554690258 | G8: =+'1. melléklet'!R17 -> 294179515 | H8: =+G8/F8 -> 0.53034916
A9: 3. | B9: B12-16 | C9: Működési célú támogatások államháztartáson belülről | D9: 26399949 | E9: =+'1. melléklet'!P23 -> 48549527 | F9: =+'1. melléklet'!Q23 -> 72447373 | G9: =+'1. melléklet'!R23 -> 61101694 | H9: =+G9/F9 -> 0.8433942
A10: 4. | B10: B3 | C10: Közhatalmi bevételek | D10: 205178345 | E10: =+'1. melléklet'!P33 -> 188500000 | F10: =+'1. melléklet'!Q33 -> 188500000 | G10: =+'1. melléklet'!R33 -> 94183663 | H10: =+G10/F10 -> 0.49964808
A11: 5. | B11: B4 | C11: Működési bevételek | D11: =38455749+140229+3204463 -> 41800441 | E11: =+'1. melléklet'!P47 -> 38897715 | F11: =+'1. melléklet'!Q47 -> 44153596 | G11: =+'1. melléklet'!R47 -> 28271441 | H11: =+G11/F11 -> 0.64029759
A12: 6. | B12: B6 | C12: Működési célú átvett pénzeszközök | D12: 262335 | E12: =+'1. melléklet'!P59 -> 500000 | F12: =+'1. melléklet'!Q59 -> 721692 | G12: =+'1. melléklet'!R59 -> 92425 | H12: =+G12/F12 -> 0.1280671
A13: 7. | C13: MŰKÖDÉSI KÖLTSÉGVETÉSI BEVÉTELEK ÖSSZESEN (=2…+6) | D13: =SUM(D8:D12) -> 830609039 | E13: =SUM(E8:E12) -> 815900467 | F13: =SUM(F8:F12) -> 860512919 | G13: =SUM(G8:G12) -> 477828738 | H13: =+G13/F13 -> 0.55528363
A14: 8. | B14: FELHALMOZÁSI CÉLÚ KÖLTSÉGVETÉSI BEVÉTELEK
A15: 9. | B15: B2 | C15: Felhalmozási célú támogatások államháztartáson belülről | D15: 94906692 | E15: =+'1. melléklet'!P29 -> 520045733 | F15: =+'1. melléklet'!Q29 -> 513995733 | G15: =+'1. melléklet'!R29 -> 22998834 | H15: =+G15/F15 -> 0.044745185
A16: 10. | B16: B5 | C16: Felhalmozási bevételek | D16: 95683000 | E16: =+'1. melléklet'!P53 -> 77311200 | F16: =+'1. melléklet'!Q53 -> 77311200 | G16: =+'1. melléklet'!R53 -> 14681040 | H16: =+G16/F16 -> 0.18989538
A17: 11. | B17: B7 | C17: Felhalmozási célú átvett pénzeszközök | D17: 0 | E17: =+'1. melléklet'!P65 -> 10740000 | F17: =+'1. melléklet'!Q65 -> 12922438 | G17: =+'1. melléklet'!R65 -> 12612272 | H17: =+G17/F17 -> 0.97599787
A18: 12. | C18: FELHALMOZÁSI KÖLTSÉGVETÉSI BEVÉTELEK ÖSSZESEN (=9…+11) | D18: =SUM(D15:D17) -> 190589692 | E18: =SUM(E15:E17) -> 608096933 | F18: =SUM(F15:F17) -> 604229371 | G18: =SUM(G15:G17) -> 50292146 | H18: =+G18/F18 -> 0.083233534
A19: 13. | B19: KÖLTSÉGVETÉSI BEVÉTELEK ÖSSZESEN (=7+12) | D19: =+D13+D18 -> 1021198731 | E19: =+E13+E18 -> 1423997400 | F19: =+F13+F18 -> 1464742290 | G19: =+G13+G18 -> 528120884 | H19: =+G19/F19 -> 0.3605555
A20: 14. | B20: FINANSZÍROZÁSI BEVÉTELEK
A21: 15. | C21: Hitel, kölcsön felvétele államháztartáson kívülről | D21: 0 | E21: =+'1. melléklet'!P76 -> 0 | F21: =+'1. melléklet'!Q76 -> 0 | G21: =+'1. melléklet'!R76 -> 0
A22: 16. | C22: Belföldi értékpapírok bevétele | D22: 65097404 | E22: =+'1. melléklet'!P81 -> 67067368 | F22: =+'1. melléklet'!Q81 -> 135923858 | G22: =+'1. melléklet'!R81 -> 67067368 | H22: =+G22/F22 -> 0.49341866
A23: 17. | C23: Maradvány igénybevétele | D23: =329773977+1129570+2120598 -> 333024145 | E23: =+'1. melléklet'!P84 -> 252696037 | F23: =+'1. melléklet'!Q84 -> 252662924 | G23: =+'1. melléklet'!R84 -> 252662924 | H23: =+G23/F23 -> 1
A24: 18. | C24: ÁH-n belüli megelőlegezések bevétele | D24: 23104455 | E24: =+'1. melléklet'!P85+'1. melléklet'!P86 -> 20065423 | F24: =+'1. melléklet'!Q85+'1. melléklet'!Q86 -> 20065423 | G24: =+'1. melléklet'!R85+'1. melléklet'!R86 -> 0 | H24: =+G24/F24 -> 0
A25: 19. | C25: Központi, irányítószervi támogatás | E25: =+'1. melléklet'!P87 -> 0 | F25: =+'1. melléklet'!Q87 -> 0 | G25: =+'1. melléklet'!R87 -> 0
A26: 20. | C26: Lekötött bankbetétek megszűntetése | D26: 0 | E26: =+'1. melléklet'!P88 -> 0 | F26: =+'1. melléklet'!Q88 -> 0 | G26: =+'1. melléklet'!R88 -> 0
A27: 21. | B27: FINANSZÍROZÁSI BEVÉTELEK ÖSSZESEN (=15…+20) | D27: =SUM(D21:D26) -> 421226004 | E27: =SUM(E21:E26) -> 339828828 | F27: =SUM(F21:F26) -> 408652205 | G27: =SUM(G21:G26) -> 319730292 | H27: =+G27/F27 -> 0.78240197
A28: 22. | B28: BEVÉTELEK MINDÖSSZESEN (=13+21) | D28: =+D19+D27 -> 1442424735 | E28: =+E19+E27 -> 1763826228 | F28: =+F19+F27 -> 1873394495 | G28: =+G19+G27 -> 847851176 | H28: =+G28/F28 -> 0.45257482
A30: 23. | B30: KIADÁSOK jogcím megnevezése | D30: Tokod Nagyközség Önkormányzata és a hozzá kapcsolódó intézmények
A31: 24. | D31: 2025. évi tányadat | E31: 2026. évi eredeti előirányzat | F31: 2026.évi módosított előirányzat I. | G31: 2026. I. félévi tényadat | H31: Teljesítési mutató
A32: 25. | B32: MŰKÖDÉSI CÉLÚ KÖLTSÉGVETÉSI KIADÁSOK
A33: 26. | C33: Személyi juttatások | D33: =152654054+106280124+268670196 -> 527604374 | E33: =+'2. melléklet'!P28 -> 606647012 | F33: =+'2. melléklet'!Q28 -> 612486716 | G33: =+'2. melléklet'!R28 -> 289818154 | H33: =+G33/F33 -> 0.47318276
A34: 27. | C34: Munkaadókat terhelő járulékok és szociális hozzájárulási adó | D34: =19553000+13872387+31785015 -> 65210402 | E34: =+'2. melléklet'!P29 -> 78098284 | F34: =+'2. melléklet'!Q29 -> 78881002 | G34: =+'2. melléklet'!R29 -> 43238814 | H34: =+G34/F34 -> 0.54815244
A35: 28. | C35: Dologi kiadások | D35: =56158068+8744435+158659230 -> 223561733 | E35: =+'2. melléklet'!P56 -> 335427804 | F35: =+'2. melléklet'!Q56 -> 338763797 | G35: =+'2. melléklet'!R56 -> 109985832 | H35: =+G35/F35 -> 0.3246682
A36: 29. | C36: Ellátottak pénzbeli juttatásai | D36: 4108999 | E36: =+'2. melléklet'!P59 -> 4200000 | F36: =+'2. melléklet'!Q59 -> 4200000 | G36: =+'2. melléklet'!R59 -> 626380 | H36: =+G36/F36 -> 0.1491381
A37: 30. | C37: Egyéb működési célú kiadások | D37: 110892493 | E37: =+'2. melléklet'!P74 -> 26325106 | F37: =+'2. melléklet'!Q74 -> 51787906 | G37: =+'2. melléklet'!R74 -> 14192475 | H37: =+G37/F37 -> 0.27404999
A38: 31. | C38: MŰKÖDÉSI CÉLÚ KÖLTSÉGVETÉSI KIADÁSOK ÖSSZESEN (=26…+30) | D38: =SUM(D33:D37) -> 931378001 | E38: =SUM(E33:E37) -> 1050698206 | F38: =SUM(F33:F37) -> 1086119421 | G38: =SUM(G33:G37) -> 457861655 | H38: =+G38/F38 -> 0.42155738
A39: 32. | B39: FELHALMOZÁSI CÉLÚ KÖLTSÉGVETÉSI KIADÁSOK
A40: 33. | C40: Beruházások | D40: =954560+5418727+68534508 -> 74907795 | E40: =+'2. melléklet'!P80 -> 5.110626e+08 | F40: =+'2. melléklet'!Q80 -> 5.1165452e+08 | G40: =+'2. melléklet'!R80 -> 29428335 | H40: =+G40/F40 -> 0.057516027
A41: 34. | C41: Felújítások | D41: =909274+31349860 -> 32259134 | E41: =+'2. melléklet'!P85 -> 182000000 | F41: =+'2. melléklet'!Q85 -> 186391442 | G41: =+'2. melléklet'!R85 -> 3391444 | H41: =+G41/F41 -> 0.018195277
A42: 35. | C42: Egyéb felhalmozási célú kiadások | D42: 0 | E42: =+'2. melléklet'!P93 -> 0 | F42: =+'2. melléklet'!Q93 -> 307204 | G42: =+'2. melléklet'!R93 -> 307204 | H42: =+G42/F42 -> 1
...

Sheet 4. melléklet
A1: TOKOD NAGYKÖZSÉG ÖNKORMÁNYZATA 2026. ÉVI KÖLTSÉGVETÉSÉNEK I. FÉLÉVI TELJESÍTÉSE
A2: FELHALMOZÁSI KÖLTSÉGVETÉS KIADÁSAI / BERUHÁZÁSOK (forint bruttó értékben)
A4: Sorszám | C4: A. | D4: B. | E4: C. | F4: D. | G4: E. | H4: F. | I4: G. | J4: H. | K4: I. | L4: J. | M4: K. | N4: L. | O4: M. | P4: N. | Q4: O. | R4: P. | S4: Q.
B5: Megnevezés | D5: Tokod Nagyközség Önkormányzata | H5: Tokodi Polgármesteri Hivatal | L5: Tokodi Mesevár Óvoda- Bölcsőde és Mini-bölcsőde | P5: Az Önkormányzat és intézményei összesen
D6: Eredeti | E6: Módosított | F6: Teljesítés | H6: Eredeti | I6: Módosított | J6: Teljesítés | L6: Eredeti | M6: Módosított | N6: Teljesítés | P6: Eredeti | Q6: Módosított | R6: Teljesítés
D7: Előirányzat | H7: Előirányzat | L7: Előirányzat | P7: Előirányzat
A8: 1. | B8: Immateriális javak beszerzése, létesítése
A9: 2. | C9: Windows program beszerzése | D9: 0 | E9: 0 | F9: 0 | H9: 0 | I9: 83661 | J9: 83661 | K9: =+J9/I9 -> 1 | P9: =+D9+H9+L9 -> 0 | Q9: =+E9+I9+M9 -> 83661 | R9: =+F9+J9+N9 -> 83661 | S9: =+R9/Q9 -> 1
A10: 3. | B10: Immateriális javak beszerzése, létesítése összesen | D10: =SUM(D9:D9) -> 0 | E10: =SUM(E9:E9) -> 0 | H10: =SUM(H9:H9) -> 0 | I10: =SUM(I9:I9) -> 83661 | J10: =SUM(J9:J9) -> 83661 | K10: =+J10/I10 -> 1 | L10: =SUM(L9:L9) -> 0 | M10: =SUM(M9:M9) -> 0 | P10: =SUM(P9:P9) -> 0 | Q10: =SUM(Q9:Q9) -> 83661 | R10: =SUM(R9:R9) -> 83661 | S10: =+R10/Q10 -> 1
A11: 4. | B11: Ingatlanok beszerzése, létesítése
A12: 5. | C12: Pincevölgyi kerékpárút építése | D12: 240393000 | E12: 240393000 | F12: 0 | G12: =+F12/E12 -> 0 | P12: =+D12+H12+L12 -> 240393000 | Q12: =+E12+I12+M12 -> 240393000 | R12: =+F12+J12+N12 -> 0 | S12: =+R12/Q12 -> 0
A13: 6. | C13: Kékinfrastruktúra fejlesztése - Csapadékvíz elvezetése | D13: 75651000 | E13: 75651000 | F13: 0 | G13: =+F13/E13 -> 0 | P13: =+D13+H13+L13 -> 75651000 | Q13: =+E13+I13+M13 -> 75651000 | R13: =+F13+J13+N13 -> 0 | S13: =+R13/Q13 -> 0
A14: 7. | C14: Aktívan a Dunamentén - Aktív és ökoturisztikai fejlesztések - Látogatóközpont | D14: 127988200 | E14: 127988200 | F14: 0 | G14: =+F14/E14 -> 0 | P14: =+D14+H14+L14 -> 127988200 | Q14: =+E14+I14+M14 -> 127988200 | R14: =+F14+J14+N14 -> 0 | S14: =+R14/Q14 -> 0
A15: 8. | C15: Kerékpáros pumpapálya | D15: =38280539-19140270 -> 19140269 | E15: =19140269+94552 -> 19234821 | F15: 19234821 | G15: =+F15/E15 -> 1 | P15: =+D15+H15+L15 -> 19140269 | Q15: =+E15+I15+M15 -> 19234821 | R15: =+F15+J15+N15 -> 19234821 | S15: =+R15/Q15 -> 1
A16: 9. | C16: Óvodai játszóudvar fejlesztése | D16: =3155124+1586599+1270000 -> 6011723 | E16: 6549187 | F16: 6549187 | G16: =+F16/E16 -> 1 | P16: =+D16+H16+L16 -> 6011723 | Q16: =+E16+I16+M16 -> 6549187 | R16: =+F16+J16+N16 -> 6549187 | S16: =+R16/Q16 -> 1
A17: 10. | C17: Ebszőnybányai buszváró telepítése + Üdvözlő tábla áthelyezése | D17: =2694407+100000 -> 2794407 | E17: 2794410 | F17: =2694410-3 -> 2694407 | G17: =+F17/E17 -> 0.9642132 | P17: =+D17+H17+L17 -> 2794407 | Q17: =+E17+I17+M17 -> 2794410 | R17: =+F17+J17+N17 -> 2694407 | S17: =+R17/Q17 -> 0.9642132
A18: 11. | C18: Ingatlan kisajátítások | D18: 11500000 | E18: 11500000 | F18: 0 | G18: =+F18/E18 -> 0 | P18: =+D18+H18+L18 -> 11500000 | Q18: =+E18+I18+M18 -> 11500000 | R18: =+F18+J18+N18 -> 0 | S18: =+R18/Q18 -> 0
A19: 12. | C19: Településfásítás | D19: 500000 | E19: 0 | F19: 0 | P19: =+D19+H19+L19 -> 500000 | Q19: =+E19+I19+M19 -> 0 | R19: =+F19+J19+N19 -> 0
A20: 13. | P20: =+D20+H20+L20 -> 0 | Q20: =+E20+I20+M20 -> 0 | R20: =+F20+J20+N20 -> 0
A21: 14. | B21: Ingatlanok beszerzése, létesítése összesen | D21: =SUM(D12:D20) -> 483978599 | E21: =SUM(E12:E20) -> 484110618 | F21: =SUM(F12:F20) -> 28478415 | G21: =+F21/E21 -> 0.058826256 | H21: =SUM(H12:H20) -> 0 | I21: =SUM(I12:I20) -> 0 | L21: =SUM(L12:L20) -> 0 | M21: =SUM(M12:M20) -> 0 | P21: =SUM(P12:P20) -> 483978599 | Q21: =SUM(Q12:Q20) -> 484110618 | R21: =SUM(R12:R20) -> 28478415 | S21: =+R21/Q21 -> 0.058826256
A22: 15. | B22: Informatikai eszközök beszerzése, létesítése
A23: 16. | C23: Óvoda laptop beszerzés (3 db) | L23: 500000 | M23: 500000 | N23: 227800 | O23: =+N23/M23 -> 0.4556 | P23: =+D23+H23+L23 -> 500000 | Q23: =+E23+I23+M23 -> 500000 | R23: =+F23+J23+N23 -> 227800 | S23: =+R23/Q23 -> 0.4556
A24: 17. | C24: Polgármesteri Hivatal egyéb informatikai eszközbeszerzés | H24: 254000 | I24: 254000 | J24: 0 | K24: =+J24/I24 -> 0 | P24: =+D24+H24+L24 -> 254000 | Q24: =+E24+I24+M24 -> 254000 | R24: =+F24+J24+N24 -> 0 | S24: =+R24/Q24 -> 0
A25: 18. | B25: Informatikai eszközök beszerzése, létesítése összesen | D25: =SUM(D23:D24) -> 0 | E25: =SUM(E23:E24) -> 0 | H25: =SUM(H23:H24) -> 254000 | I25: =SUM(I23:I24) -> 254000 | J25: =SUM(J23:J24) -> 0 | K25: =+J25/I25 -> 0 | L25: =SUM(L23:L24) -> 500000 | M25: =SUM(M23:M24) -> 500000 | N25: =SUM(N23:N24) -> 227800 | O25: =+N25/M25 -> 0.4556 | P25: =SUM(P23:P24) -> 754000 | Q25: =SUM(Q23:Q24) -> 754000 | R25: =SUM(R23:R24) -> 227800 | S25: =+R25/Q25 -> 0.30212202
A26: 19. | B26: Egyéb tárgyi eszközök beszerzése, létesítése
A27: 20. | C27: Közvilágítás korszerűsítése | D27: 22000000 | E27: 22000000 | F27: 0 | G27: =+F27/E27 -> 0 | P27: =+D27+H27+L27 -> 22000000 | Q27: =+E27+I27+M27 -> 22000000 | R27: =+F27+J27+N27 -> 0 | S27: =+R27/Q27 -> 0
A28: 21. | C28: Térfigyelő kamerák elhelyezése | D28: 2560000 | E28: 2560000 | F28: 0 | G28: =+F28/E28 -> 0 | P28: =+D28+H28+L28 -> 2560000 | Q28: =+E28+I28+M28 -> 2560000 | R28: =+F28+J28+N28 -> 0 | S28: =+R28/Q28 -> 0
A29: 22. | C29: Mobiltelefon - bölcsőde TÜ | P29: =+D29+H29+L29 -> 0 | Q29: =+E29+I29+M29 -> 0 | R29: =+F29+J29+N29 -> 0
A30: 23. | C30: Árnyékolók beszerzése - bölcsőde épület TÜ | L30: 1500000 | M30: 1500000 | N30: 0 | O30: =+N30/M30 -> 0 | P30: =+D30+H30+L30 -> 1500000 | Q30: =+E30+I30+M30 -> 1500000 | R30: =+F30+J30+N30 -> 0 | S30: =+R30/Q30 -> 0
A31: 24. | C31: Egyéb eszközbeszerzés | D31: 0 | E31: 40990 | F31: 40990 | G31: =+F31/E31 -> 1 | H31: 270000 | I31: =+H31+418910-83661 -> 605249 | J31: 597469 | K31: =+J31/I31 -> 0.98714579 | P31: =+D31+H31+L31 -> 270000 | Q31: =+E31+I31+M31 -> 646239 | R31: =+F31+J31+N31 -> 638459 | S31: =+R31/Q31 -> 0.98796111
A32: 25. | P32: =+D32+H32+L32 -> 0 | R32: =+F32+J32+N32 -> 0
A33: 26. | P33: =+D33+H33+L33 -> 0 | Q33: =+E33+I33+M33 -> 0 | R33: =+F33+J33+N33 -> 0
A34: 27. | B34: Egyéb tárgyi eszközök beszerzése, létesítése összesen | D34: =SUM(D27:D33) -> 24560000 | E34: =SUM(E27:E33) -> 24600990 | F34: =SUM(F27:F33) -> 40990 | G34: =+F34/E34 -> 0.0016661931 | H34: =SUM(H27:H33) -> 270000 | I34: =SUM(I27:I33) -> 605249 | J34: =SUM(J27:J33) -> 597469 | K34: =+J34/I34 -> 0.98714579 | L34: =SUM(L27:L33) -> 1500000 | M34: =SUM(M27:M33) -> 1500000 | N34: =SUM(N27:N33) -> 0 | O34: =+N34/M34 -> 0 | P34: =SUM(P27:P33) -> 26330000 | Q34: =SUM(Q27:Q33) -> 26706239 | R34: =SUM(R27:R33) -> 638459 | S34: =+R34/Q34 -> 0.023906736
A35: 28. | B35: BERUHÁZÁSOK ÖSSZESEN | D35: =+D10+D21+D25+D34 -> 508538599 | E35: =+E10+E21+E25+E34 -> 508711608 | F35: =+F10+F21+F25+F34 -> 28519405 | G35: =+F35/E35 -> 0.056062029 | H35: =+H10+H21+H25+H34 -> 524000 | I35: =+I10+I21+I25+I34 -> 942910 | J35: =+J10+J21+J25+J34 -> 681130 | K35: =+J35/I35 -> 0.72237011 | L35: =+L10+L21+L25+L34 -> 2000000 | M35: =+M10+M21+M25+M34 -> 2000000 | N35: =+N10+N21+N25+N34 -> 227800 | O35: =+N35/M35 -> 0.1139 | P35: =+P10+P21+P25+P34 -> 511062599 | Q35: =+Q10+Q21+Q25+Q34 -> 511654518 | R35: =+R10+R21+R25+R34 -> 29428335 | S35: =+R35/Q35 -> 0.057516027

Sheet 5. melléklet
A1: TOKOD NAGYKÖZSÉG ÖNKORMÁNYZATA 2026. ÉVI KÖLTSÉGVETÉSÉNEK I. FÉLÉVI TELJESÍTÉSE
A2: FELHALMOZÁSI KÖLTSÉGVETÉS KIADÁSAI / FELÚJÍTÁSOK (forint bruttó értékben)
A4: Sorszám | C4: A. | D4: B. | E4: C. | H4: D. | I4: E. | L4: F. | M4: G. | P4: H. | Q4: I.
B5: Megnevezés | D5: Tokod Nagyközség Önkormányzata | H5: Tokodi Polgármesteri Hivatal | L5: Tokodi Mesevár Óvoda- Bölcsőde és Mini-bölcsőde | P5: Az Önkormányzat és intézményei összesen
D6: Eredeti | E6: Módosított | F6: Teljesítés | H6: Eredeti | I6: Módosított | J6: Teljesítés | L6: Eredeti | M6: Módosított | N6: Teljesítés | P6: Eredeti | Q6: Módosított | R6: Teljesítés
D7: Előirányzat | H7: Előirányzat | L7: Előirányzat | P7: Előirányzat
A8: 1. | B8: Ingatlanok felújítása
A9: 2. | C9: Szociális közösségi épület fejlesztése | D9: 182000000 | E9: 182000000 | F9: 0 | G9: =+F9/E9 -> 0 | P9: =+D9+H9+L9 -> 182000000 | Q9: =+E9+I9+M9 -> 182000000 | R9: =+F9+J9+N9 -> 0 | S9: =+R9/Q9 -> 0
A10: 3. | C10: MOL-Új Európa Alapítvány virágosítási pályázat | D10: 0 | E10: 4391442 | F10: 3391444 | G10: =+F10/E10 -> 0.77228482 | P10: =+D10+H10+L10 -> 0 | Q10: =+E10+I10+M10 -> 4391442 | R10: =+F10+J10+N10 -> 3391444 | S10: =+R10/Q10 -> 0.77228482
A11: 31. | B11: FELÚJÍTÁSOK ÖSSZESEN | D11: =SUM(D9:D10) -> 182000000 | E11: =SUM(E9:E10) -> 186391442 | F11: =SUM(F9:F10) -> 3391444 | G11: =+F11/E11 -> 0.018195277 | H11: =SUM(H9:H9) -> 0 | I11: =SUM(I9:I9) -> 0 | L11: =SUM(L9:L9) -> 0 | M11: =SUM(M9:M9) -> 0 | P11: =SUM(P9:P9) -> 182000000 | Q11: =SUM(Q9:Q9) -> 182000000 | R11: =SUM(R9:R10) -> 3391444 | S11: =+R11/Q11 -> 0.018634308
